Workbook
Name indicebdi: [2]PLANILHA!$B$7
Name indicels: [2]PLANILHA!$B$6
Name MDC: MDC!$1:$1048576
Name orça: [1]ORÇAMENTO!$1:$1048576
Name orçamento: #REF!

Sheet MDC
A1: MEMÓRIA DE CÁLCULO
A2: Obra: | B2: Recapeamento Asfáltico de Vias Urbanas no Município de Conceição do Castelo/ES
A3: Endereço: | B3: Rua Maria Ribeiro Soares, Bairro Arthur Soares, Conceição do Castelo/ES
A4: Proprietário: | B4: Prefeitura de Conceição do Castelo - ES
A5: Orçamentista: | B5: Alex Nali Ferreira
A7: =[1]ORÇAMENTO!A22 -> 1 | B7: =VLOOKUP(A7,orça,4,FALSE) -> SERVIÇOS PRELIMINARES
A9: =[1]ORÇAMENTO!A23 -> 01.01 | B9: =VLOOKUP(A9,orça,4,FALSE) -> PLACA DE OBRA EM CHAPA DE ACO GALVANIZADO | C9: =E11 -> 2.5 | D9: =VLOOKUP(A9,orça,5,0) -> M2 | E9: Placa de obra padrão Caixa
C10: comprimento (m) | D10: altura (m) | E10: área (m²)
B11: DIMENSÕES | C11: 2 | D11: 1.25 | E11: =ROUND(C11*D11,2) -> 2.5
A13: 3 | B13: =VLOOKUP(A13,orça,4,FALSE) -> PAVIMENTAÇÃO
A14: =[1]ORÇAMENTO!A25 -> 02.01 | B14: =VLOOKUP(A14,orça,4,FALSE) -> ESCAVAÇÃO MECANIZADA DE VALA COM PROF. ATÉ 1,5 M (MÉDIA ENTRE MONTANTE E JUSANTE/UMA COMPOSIÇÃO POR TRECHO) COM RETROESCAVADEIRA (CAPACIDADE DA CAÇAMBA DA RETRO: 0,26 M3 / POTÊNCIA: 88 HP), LARGURA DE 0,8 M A 1,5 M, EM SOLO DE 1A CATEGORIA, LOCAIS COM BAIXO NÍVEL DE INTERFERÊNCIA. AF_01/2015 | C14: =G20 -> 81.84 | D14: =VLOOKUP(A14,orça,5,0) -> M3 | E14: Escavação para assentamento das tubulações e execução dos possos de visita. A composição das caixas ralo já contemplam a escavação para sua execução
C15: largura (m) | D15: comprimento (m) | E15: altura (m) | F15: quantidade (unid.) | G15: volume (m³)
B16: POÇOS DE VISITA (h=0,8m) + CHAMINÉ (h=0,6m) | C16: 0.11 | D16: 1.7 | E16: 1.4 | F16: 3 | G16: =ROUND(C16*D16*E16*F16,2) -> 0.79
B17: TUBULAÇÃO Ø300mm | C17: 0.5 | D17: =4.44+4.65+7.08+5.63+5.07+4.85+4.02+3.81 -> 39.55 | E17: 1 | F17: 1 | G17: =ROUND(C17*D17*E17*F17,2) -> 19.78
B18: TUBULAÇÃO Ø400mm | C18: 0.6 | D18: =25.6+15.81 -> 41.41 | E18: 1.5 | F18: 1 | G18: =ROUND(C18*D18*E18*F18,2) -> 37.27
B19: TUBULAÇÃO Ø600mm | C19: 0.8 | D19: 20 | E19: 1.5 | F19: 1 | G19: =ROUND(C19*D19*E19*F19,2) -> 24
F20: TOTAL = | G20: =SUM(G16:G19) -> 81.84
A22: =[1]ORÇAMENTO!A26 -> 02.02 | B22: =VLOOKUP(A22,orça,4,FALSE) -> POCO DE VISITA PARA DRENAGEM PLUVIAL, EM CONCRETO ESTRUTURAL, DIMENSOES INTERNAS DE 90X150X80CM (LARGXCOMPXALT), PARA REDE DE 600 MM, EXCLUSOS TAMPAO E CHAMINE. | C22: 4 | D22: =VLOOKUP(A22,orça,5,0) -> UN | E22: Conforme projeto (4 unidades)
A24: =[1]ORÇAMENTO!A27 -> 02.03 | B24: =VLOOKUP(A24,orça,4,FALSE) -> ACRÉSCIMO PARA POÇO DE VISITA RETANGULAR PARA ESGOTO, EM ALVENARIA COM BLOCOS DE CONCRETO, DIMENSÕES INTERNAS = 1X1,5 M. AF_05/2018 | C24: =E26 -> 2.4 | D24: =VLOOKUP(A24,orça,5,0) -> M | E24: Acréscimo de 60cm de altura para cada poço de visita
B25: DIMENÇÕES | C25: altura (m) | D25: quantidade (unid.) | E25: total (m)
B26: 60cm a mais para os PVs | C26: 0.6 | D26: 4 | E26: =ROUND(C26*D26,2) -> 2.4
A28: =[1]ORÇAMENTO!A28 -> 02.04 | B28: =VLOOKUP(A28,orça,4,FALSE) -> TAMPAO FOFO ARTICULADO, CLASSE B125 CARGA MAX 12,5 T, REDONDO TAMPA 600 MM, REDE PLUVIAL/ESGOTO, P = CHAMINE CX AREIA / POCO VISITA ASSENTADO COM ARG CIM/AREIA 1:4, FORNECIMENTO E ASSENTAMENTO | C28: =C22 -> 4 | D28: =VLOOKUP(A28,orça,5,0) -> UN | E28: Uma para cada poço de visita (idem item 02.02)
A30: =[1]ORÇAMENTO!A29 -> 02.05 | B30: =VLOOKUP(A30,orça,4,FALSE) -> CAIXA RALO EM BLOCOS PRÉ-MOLDADOS E GRELHA ARTICULADA EM FFA EM VIAS URBANAS | C30: 8 | D30: =VLOOKUP(A30,orça,5,0) -> UN | E30: Conforme projeto
A32: =[1]ORÇAMENTO!A30 -> 02.06 | B32: =VLOOKUP(A32,orça,4,FALSE) -> LASTRO DE VALA COM PREPARO DE FUNDO, LARGURA MENOR QUE 1,5 M, COM CAMA DA DE AREIA, LANÇAMENTO MECANIZADO, EM LOCAL COM NÍVEL BAIXO DE INTERFERÊNCIA. AF_06/2016 | C32: =F37 -> 6.06 | D32: =VLOOKUP(A32,orça,5,0) -> M3 | E32: Camada de 10cm de areia para assentamento da tubulação
C33: comprimento (m) | D33: largura (m) | E33: espessura (m) | F33: volume (m³)
B34: TUBULAÇÃO Ø300mm | C34: =4.44+4.65+7.08+5.63+5.07+4.85+4.02+3.81 -> 39.55 | D34: 0.5 | E34: 0.1 | F34: =ROUND(C34*D34*E34,2) -> 1.98
B35: TUBULAÇÃO Ø400mm | C35: =25.6+15.81 -> 41.41 | D35: 0.6 | E35: 0.1 | F35: =ROUND(C35*D35*E35,2) -> 2.48
B36: TUBULAÇÃO Ø600mm | C36: 20 | D36: 0.8 | E36: 0.1 | F36: =ROUND(C36*D36*E36,2) -> 1.6
E37: TOTAL = | F37: =SUM(F34:F36) -> 6.06
A39: =[1]ORÇAMENTO!A31 -> 02.07 | B39: =VLOOKUP(A39,orça,4,FALSE) -> TUBO DE CONCRETO (SIMPLES) PARA REDES COLETORAS DE ÁGUAS PLUVIAIS, DIÂMETRO DE 300 MM, JUNTA RÍGIDA, INSTALADO EM LOCAL COM BAIXO NÍVEL DE INTERFERÊNCIAS - FORNECIMENTO E ASSENTAMENTO. AF_12/2015 | C39: =4.44+4.65+7.08+5.63+5.07+4.85+4.02+3.81 -> 39.55 | D39: =VLOOKUP(A39,orça,5,0) -> M | E39: Conforme projeto (4,44 + 4,65 + 7,08 + 5,63 + 5,07 + 4,85 + 4,02 + 3,81) m
A41: =[1]ORÇAMENTO!A32 -> 02.08 | B41: =VLOOKUP(A41,orça,4,FALSE) -> TUBO DE CONCRETO PARA REDES COLETORAS DE ÁGUAS PLUVIAIS, DIÂMETRO DE 400 MM, JUNTA RÍGIDA, INSTALADO EM LOCAL COM BAIXO NÍVEL DE INTERFERÊNCIAS - FORNECIMENTO E ASSENTAMENTO. AF_12/2015 | C41: =25.6+15.81 -> 41.41 | D41: =VLOOKUP(A41,orça,5,0) -> M | E41: Conforme projeto (25,6 + 15,81) m
A43: =[1]ORÇAMENTO!A33 -> 02.09 | B43: =VLOOKUP(A43,orça,4,FALSE) -> TUBO DE CONCRETO PARA REDES COLETORAS DE ÁGUAS PLUVIAIS, DIÂMETRO DE 600 MM, JUNTA RÍGIDA, INSTALADO EM LOCAL COM BAIXO NÍVEL DE INTERFERÊNCIAS - FORNECIMENTO E ASSENTAMENTO. AF_12/2015 | C43: 20 | D43: =VLOOKUP(A43,orça,5,0) -> M | E43: Conforme projeto (10,0 + 10,0) m
A45: =[1]ORÇAMENTO!A34 -> 02.10 | B45: =VLOOKUP(A45,orça,4,FALSE) -> REATERRO MECANIZADO DE VALA COM RETROESCAVADEIRA (CAPACIDADE DA CAÇAMBA DA RETRO: 0,26 M³ / POTÊNCIA: 88 HP), LARGURA DE 0,8 A 1,5 M, PROFUNDIDADE ATÉ 1,5 M, COM SOLO DE 1ª CATEGORIA EM LOCAIS COM BAIXO NÍVEL DE INTERFERÊNCIA. AF_04/2016 | C45: =C52 -> 50.09 | D45: =VLOOKUP(A45,orça,5,0) -> M3 | E45: O volume de reaterro mecanizado será igual ao (volume de escavação das valas conforme os diametros do tubo menos o volume ocupado pelos tubos).
B46: Volume ocupado pela tubulação | C46: π/4 | D46: Diâmetro (m) | E46: Extensão (m) | F46: Volume (m) | G46: V = (π x D²) / 4
B47: Ø300mm | C47: =3.1416/4 -> 0.7854 | D47: 0.3 | E47: =4.44+4.65+7.08+5.63+5.07+4.85+4.02+3.81 -> 39.55 | F47: =ROUND(C47*D47*E47,2) -> 9.32
B48: Ø400mm | C48: =3.1416/4 -> 0.7854 | D48: 0.4 | E48: =25.6+15.81 -> 41.41 | F48: =ROUND(C48*D48*E48,2) -> 13.01
B49: Ø600mm | C49: =3.1416/4 -> 0.7854 | D49: 0.6 | E49: 20 | F49: =ROUND(C49*D49*E49,2) -> 9.42
E50: TOTAL = | F50: =SUM(F47:F49) -> 31.75
B51: Volume total de escavação (idem item 03.01) | C51: =C14 -> 81.84
B52: Reaterro (diferença) = | C52: =C51-F50 -> 50.09
...
