Workbook
Name indicebdi: [2]PLANILHA!$B$7
Name indicels: [2]PLANILHA!$B$6
Name MDC: MDC!$1:$1048576
Name orça: [1]ORÇAMENTO!$1:$1048576
Name orçamento: #REF!

Sheet MDC
A1: MEMÓRIA DE CÁLCULO
A2: Obra: | B2: Recapeamento Asfáltico de Vias Urbanas no Município de Conceição do Castelo/ES
A3: Endereço: | B3: Rua Maria Ribeiro Soares, Bairro Arthur Soares, Conceição do Castelo/ES
A4: Proprietário: | B4: Prefeitura de Conceição do Castelo - ES
A5: Orçamentista: | B5: Alex Nali Ferreira
A7: =[1]ORÇAMENTO!A22 -> 1 | B7: =VLOOKUP(A7,orça,4,FALSE) -> SERVIÇOS PRELIMINARES
A9: =[1]ORÇAMENTO!A23 -> 01.01 | B9: =VLOOKUP(A9,orça,4,FALSE) -> PLACA DE OBRA EM CHAPA DE ACO GALVANIZADO | C9: =E11 -> 2.5 | D9: =VLOOKUP(A9,orça,5,0) -> M2 | E9: Placa de obra padrão Caixa
C10: comprimento (m) | D10: altura (m) | E10: área (m²)
B11: DIMENSÕES | C11: 2 | D11: 1.25 | E11: =ROUND(C11*D11,2) -> 2.5
A13: 3 | B13: =VLOOKUP(A13,orça,4,FALSE) -> PAVIMENTAÇÃO
A14: =[1]ORÇAMENTO!A25 -> 02.01 | B14: =VLOOKUP(A14,orça,4,FALSE) -> ESCAVAÇÃO MECANIZADA DE VALA COM PROF. ATÉ 1,5 M (MÉDIA ENTRE MONTANTE E JUSANTE/UMA COMPOSIÇÃO POR TRECHO) COM RETROESCAVADEIRA (CAPACIDADE DA CAÇAMBA DA RETRO: 0,26 M3 / POTÊNCIA: 88 HP), LARGURA DE 0,8 M A 1,5 M, EM SOLO DE 1A CATEGORIA, LOCAIS COM BAIXO NÍVEL DE INTERFERÊNCIA. AF_01/2015 | C14: =G20 -> 81.84 | D14: =VLOOKUP(A14,orça,5,0) -> M3 | E14: Escavação para assentamento das tubulações e execução dos possos de visita. A composição das caixas ralo já contemplam a escavação para sua execução
C15: largura (m) | D15: comprimento (m) | E15: altura (m) | F15: quantidade (unid.) | G15: volume (m³)
B16: POÇOS DE VISITA (h=0,8m) + CHAMINÉ (h=0,6m) | C16: 0.11 | D16: 1.7 | E16: 1.4 | F16: 3 | G16: =ROUND(C16*D16*E16*F16,2) -> 0.79
B17: TUBULAÇÃO Ø300mm | C17: 0.5 | D17: =4.44+4.65+7.08+5.63+5.07+4.85+4.02+3.81 -> 39.55 | E17: 1 | F17: 1 | G17: =ROUND(C17*D17*E17*F17,2) -> 19.78
B18: TUBULAÇÃO Ø400mm | C18: 0.6 | D18: =25.6+15.81 -> 41.41 | E18: 1.5 | F18: 1 | G18: =ROUND(C18*D18*E18*F18,2) -> 37.27
B19: TUBULAÇÃO Ø600mm | C19: 0.8 | D19: 20 | E19: 1.5 | F19: 1 | G19: =ROUND(C19*D19*E19*F19,2) -> 24
F20: TOTAL = | G20: =SUM(G16:G19) -> 81.84
A22: =[1]ORÇAMENTO!A26 -> 02.02 | B22: =VLOOKUP(A22,orça,4,FALSE) -> POCO DE VISITA PARA DRENAGEM PLUVIAL, EM CONCRETO ESTRUTURAL, DIMENSOES INTERNAS DE 90X150X80CM (LARGXCOMPXALT), PARA REDE DE 600 MM, EXCLUSOS TAMPAO E CHAMINE. | C22: 4 | D22: =VLOOKUP(A22,orça,5,0) -> UN | E22: Conforme projeto (4 unidades)
A24: =[1]ORÇAMENTO!A27 -> 02.03 | B24: =VLOOKUP(A24,orça,4,FALSE) -> ACRÉSCIMO PARA POÇO DE VISITA RETANGULAR PARA ESGOTO, EM ALVENARIA COM BLOCOS DE CONCRETO, DIMENSÕES INTERNAS = 1X1,5 M. AF_05/2018 | C24: =E26 -> 2.4 | D24: =VLOOKUP(A24,orça,5,0) -> M | E24: Acréscimo de 60cm de altura para cada poço de visita
B25: DIMENÇÕES | C25: altura (m) | D25: quantidade (unid.) | E25: total (m)
B26: 60cm a mais para os PVs | C26: 0.6 | D26: 4 | E26: =ROUND(C26*D26,2) -> 2.4
A28: =[1]ORÇAMENTO!A28 -> 02.04 | B28: =VLOOKUP(A28,orça,4,FALSE) -> TAMPAO FOFO ARTICULADO, CLASSE B125 CARGA MAX 12,5 T, REDONDO TAMPA 600 MM, REDE PLUVIAL/ESGOTO, P = CHAMINE CX AREIA / POCO VISITA ASSENTADO COM ARG CIM/AREIA 1:4, FORNECIMENTO E ASSENTAMENTO | C28: =C22 -> 4 | D28: =VLOOKUP(A28,orça,5,0) -> UN | E28: Uma para cada poço de visita (idem item 02.02)
A30: =[1]ORÇAMENTO!A29 -> 02.05 | B30: =VLOOKUP(A30,orça,4,FALSE) -> CAIXA RALO EM BLOCOS PRÉ-MOLDADOS E GRELHA ARTICULADA EM FFA EM VIAS URBANAS | C30: 8 | D30: =VLOOKUP(A30,orça,5,0) -> UN | E30: Conforme projeto
A32: =[1]ORÇAMENTO!A30 -> 02.06 | B32: =VLOOKUP(A32,orça,4,FALSE) -> LASTRO DE VALA COM PREPARO DE FUNDO, LARGURA MENOR QUE 1,5 M, COM CAMA DA DE AREIA, LANÇAMENTO MECANIZADO, EM LOCAL COM NÍVEL BAIXO DE INTERFERÊNCIA. AF_06/2016 | C32: =F37 -> 6.06 | D32: =VLOOKUP(A32,orça,5,0) -> M3 | E32: Camada de 10cm de areia para assentamento da tubulação
C33: comprimento (m) | D33: largura (m) | E33: espessura (m) | F33: volume (m³)
B34: TUBULAÇÃO Ø300mm | C34: =4.44+4.65+7.08+5.63+5.07+4.85+4.02+3.81 -> 39.55 | D34: 0.5 | E34: 0.1 | F34: =ROUND(C34*D34*E34,2) -> 1.98
B35: TUBULAÇÃO Ø400mm | C35: =25.6+15.81 -> 41.41 | D35: 0.6 | E35: 0.1 | F35: =ROUND(C35*D35*E35,2) -> 2.48
B36: TUBULAÇÃO Ø600mm | C36: 20 | D36: 0.8 | E36: 0.1 | F36: =ROUND(C36*D36*E36,2) -> 1.6
E37: TOTAL = | F37: =SUM(F34:F36) -> 6.06
A39: =[1]ORÇAMENTO!A31 -> 02.07 | B39: =VLOOKUP(A39,orça,4,FALSE) -> TUBO DE CONCRETO (SIMPLES) PARA REDES COLETORAS DE ÁGUAS PLUVIAIS, DIÂMETRO DE 300 MM, JUNTA RÍGIDA, INSTALADO EM LOCAL COM BAIXO NÍVEL DE INTERFERÊNCIAS - FORNECIMENTO E ASSENTAMENTO. AF_12/2015 | C39: =4.44+4.65+7.08+5.63+5.07+4.85+4.02+3.81 -> 39.55 | D39: =VLOOKUP(A39,orça,5,0) -> M | E39: Conforme projeto (4,44 + 4,65 + 7,08 + 5,63 + 5,07 + 4,85 + 4,02 + 3,81) m
A41: =[1]ORÇAMENTO!A32 -> 02.08 | B41: =VLOOKUP(A41,orça,4,FALSE) -> TUBO DE CONCRETO PARA REDES COLETORAS DE ÁGUAS PLUVIAIS, DIÂMETRO DE 400 MM, JUNTA RÍGIDA, INSTALADO EM LOCAL COM BAIXO NÍVEL DE INTERFERÊNCIAS - FORNECIMENTO E ASSENTAMENTO. AF_12/2015 | C41: =25.6+15.81 -> 41.41 | D41: =VLOOKUP(A41,orça,5,0) -> M | E41: Conforme projeto (25,6 + 15,81) m
A43: =[1]ORÇAMENTO!A33 -> 02.09 | B43: =VLOOKUP(A43,orça,4,FALSE) -> TUBO DE CONCRETO PARA REDES COLETORAS DE ÁGUAS PLUVIAIS, DIÂMETRO DE 600 MM, JUNTA RÍGIDA, INSTALADO EM LOCAL COM BAIXO NÍVEL DE INTERFERÊNCIAS - FORNECIMENTO E ASSENTAMENTO. AF_12/2015 | C43: 20 | D43: =VLOOKUP(A43,orça,5,0) -> M | E43: Conforme projeto (10,0 + 10,0) m
A45: =[1]ORÇAMENTO!A34 -> 02.10 | B45: =VLOOKUP(A45,orça,4,FALSE) -> REATERRO MECANIZADO DE VALA COM RETROESCAVADEIRA (CAPACIDADE DA CAÇAMBA DA RETRO: 0,26 M³ / POTÊNCIA: 88 HP), LARGURA DE 0,8 A 1,5 M, PROFUNDIDADE ATÉ 1,5 M, COM SOLO DE 1ª CATEGORIA EM LOCAIS COM BAIXO NÍVEL DE INTERFERÊNCIA. AF_04/2016 | C45: =C52 -> 50.09 | D45: =VLOOKUP(A45,orça,5,0) -> M3 | E45: O volume de reaterro mecanizado será igual ao (volume de escavação das valas conforme os diametros do tubo menos o volume ocupado pelos tubos).
B46: Volume ocupado pela tubulação | C46: π/4 | D46: Diâmetro (m) | E46: Extensão (m) | F46: Volume (m) | G46: V = (π x D²) / 4
B47: Ø300mm | C47: =3.1416/4 -> 0.7854 | D47: 0.3 | E47: =4.44+4.65+7.08+5.63+5.07+4.85+4.02+3.81 -> 39.55 | F47: =ROUND(C47*D47*E47,2) -> 9.32
B48: Ø400mm | C48: =3.1416/4 -> 0.7854 | D48: 0.4 | E48: =25.6+15.81 -> 41.41 | F48: =ROUND(C48*D48*E48,2) -> 13.01
B49: Ø600mm | C49: =3.1416/4 -> 0.7854 | D49: 0.6 | E49: 20 | F49: =ROUND(C49*D49*E49,2) -> 9.42
E50: TOTAL = | F50: =SUM(F47:F49) -> 31.75
B51: Volume total de escavação (idem item 03.01) | C51: =C14 -> 81.84
B52: Reaterro (diferença) = | C52: =C51-F50 -> 50.09
A54: =[1]ORÇAMENTO!A35 -> 02.11 | B54: =VLOOKUP(A54,orça,4,FALSE) -> EXECUÇÃO E COMPACTAÇÃO DE ATERRO COM SOLO PREDOMINANTEMENTE ARGILOSO - EXCLUSIVE ESCAVAÇÃO, CARGA E TRANSPORTE E SOLO. AF_09/2017 | C54: =C45 -> 50.09 | D54: =VLOOKUP(A54,orça,5,0) -> M3 | E54: Idem item 02.10
A56: =[1]ORÇAMENTO!A36 -> 3 | B56: =VLOOKUP(A56,orça,4,FALSE) -> PAVIMENTAÇÃO
A57: =[1]ORÇAMENTO!A37 -> 03.01 | B57: =VLOOKUP(A57,orça,4,FALSE) -> EXECUÇÃO DE RECAPEAMENTO ASFÁLTICO COM CONCRETO USINADO A QUENTE (CBUQ), INCLUSO FORNECIMENTO DA MASSA ASFÁLTICA, TRANSPORTE DA USINA ATÉ O TOCAL DA OBRA (MUNICÍPIO DE CONCEIÇÃO DO CASTELO), APLICAÇÃO E PINTURA DE LIGAÇÃO. | C57: =C134 -> 576.19 | D57: =VLOOKUP(A57,orça,5,0) -> T | E57: Será considerado para efeito de pagamento, a divisão do comprimento de 100 em 100 metros, ou seja, o intervalo de 5 estacas. Espessura do asfalto de 5cm
C59: largura 1 (m) | D59: largura 2 (m) | E59: largura média (m) | F59: comprimento (m) | G59: área(m²)
A60: ESTACA 00 A 05 | B60: ESTACA 00 A 01 | C60: 8.34 | D60: 6.59 | E60: =ROUND((C60+D60)/2,2) -> 7.47 | F60: 20 | G60: =ROUND(E60*F60,2) -> 149.4
B61: ESTACA 01 A 02 | C61: 6.39 | D61: 6.15 | E61: =ROUND((C61+D61)/2,2) -> 6.27 | F61: 20 | G61: =ROUND(E61*F61,2) -> 125.4
B62: ESTACA 02 A 03 | C62: 7.09 | D62: 7.9 | E62: =ROUND((C62+D62)/2,2) -> 7.5 | F62: 20 | G62: =ROUND(E62*F62,2) -> 150
B63: ESTACA 03 A 04 | C63: 8.25 | D63: 8.63 | E63: =ROUND((C63+D63)/2,2) -> 8.44 | F63: 20 | G63: =ROUND(E63*F63,2) -> 168.8
B64: ESTACA 04 A 05 | C64: 9.69 | D64: 9.71 | E64: =ROUND((C64+D64)/2,2) -> 9.7 | F64: 20 | G64: =ROUND(E64*F64,2) -> 194
F65: SUB-TOTAL 01 = | G65: =SUM(G60:G64) -> 787.6
B66: Área recapeada | C66: =G65 -> 787.6 | D66: m²
B67: Espessura | C67: 0.05 | D67: m
B68: Peso específico | C68: 2.4 | D68: t/m³
B69: Volume parcial | C69: =ROUND(C66*C67*C68,2) -> 94.51 | D69: T
C71: largura 1 (m) | D71: largura 2 (m) | E71: largura média (m) | F71: comprimento (m) | G71: área(m²)
A72: ESTACA 05 A 10 | B72: ESTACA 05 A 06 | C72: 8.73 | D72: 8.29 | E72: =ROUND((C72+D72)/2,2) -> 8.51 | F72: 20 | G72: =ROUND(E72*F72,2) -> 170.2
B73: ESTACA 06 A 07 | C73: 8.16 | D73: 8.15 | E73: =ROUND((C73+D73)/2,2) -> 8.16 | F73: 20 | G73: =ROUND(E73*F73,2) -> 163.2
B74: ESTACA 07 A 08 | C74: 8.03 | D74: 8.04 | E74: =ROUND((C74+D74)/2,2) -> 8.04 | F74: 20 | G74: =ROUND(E74*F74,2) -> 160.8
B75: ESTACA 08 A 09 | C75: 8.02 | D75: 8.04 | E75: =ROUND((C75+D75)/2,2) -> 8.03 | F75: 20 | G75: =ROUND(E75*F75,2) -> 160.6
B76: ESTACA 09 A 10 | C76: 8.12 | D76: 8.09 | E76: =ROUND((C76+D76)/2,2) -> 8.11 | F76: 20 | G76: =ROUND(E76*F76,2) -> 162.2
F77: SUB-TOTAL 01 = | G77: =SUM(G72:G76) -> 817
B78: Área recapeada | C78: =G77 -> 817 | D78: m²
B79: Espessura | C79: 0.05 | D79: m
B80: Peso específico | C80: 2.4 | D80: t/m³
B81: Peso parcial | C81: =ROUND(C78*C79*C80,2) -> 98.04 | D81: T
C83: largura 1 (m) | D83: largura 2 (m) | E83: largura média (m) | F83: comprimento (m) | G83: área(m²)
A84: ESTACA 10 A 15 + CABECEIRA DA PONTE | B84: ESTACA 10 A 11 | C84: 8.18 | D84: 8.29 | E84: =ROUND((C84+D84)/2,2) -> 8.24 | F84: 20 | G84: =ROUND(E84*F84,2) -> 164.8
B85: ESTACA 11 A 12 | C85: 8.19 | D85: 7.8 | E85: =ROUND((C85+D85)/2,2) -> 8 | F85: 20 | G85: =ROUND(E85*F85,2) -> 160
B86: ESTACA 12 A 13 | C86: 7.1 | D86: 6.83 | E86: =ROUND((C86+D86)/2,2) -> 6.97 | F86: 20 | G86: =ROUND(E86*F86,2) -> 139.4
B87: ESTACA 13 A 14 | C87: 7.01 | D87: 7.01 | E87: =ROUND((C87+D87)/2,2) -> 7.01 | F87: 20 | G87: =ROUND(E87*F87,2) -> 140.2
B88: CABECEIRA DA PONTE | C88: Área obtida através de comando em programa de CAD | G88: 131.67
B89: ESTACA 14 A 15 | C89: 7.01 | D89: 7.9 | E89: =ROUND((C89+D89)/2,2) -> 7.46 | F89: 20 | G89: =ROUND(E89*F89,2) -> 149.2
F90: SUB-TOTAL 01 = | G90: =SUM(G84:G89) -> 885.27
B91: Área recapeada | C91: =G90 -> 885.27 | D91: m²
B92: Espessura | C92: 0.05 | D92: m
B93: Peso específico | C93: 2.4 | D93: t/m³
B94: Peso parcial | C94: =ROUND(C91*C92*C93,2) -> 106.23 | D94: T
C96: largura 1 (m) | D96: largura 2 (m) | E96: largura média (m) | F96: comprimento (m) | G96: área(m²)
A97: ESTACA 15 A 20 | B97: ESTACA 15 A 16 | C97: 6.94 | D97: 6.76 | E97: =ROUND((C97+D97)/2,2) -> 6.85 | F97: 20 | G97: =ROUND(E97*F97,2) -> 137
B98: ESTACA 16 A 17 | C98: 6.59 | D98: 6.6 | E98: =ROUND((C98+D98)/2,2) -> 6.6 | F98: 20 | G98: =ROUND(E98*F98,2) -> 132
B99: ESTACA 17 A 18 | C99: 7.52 | D99: 7.86 | E99: =ROUND((C99+D99)/2,2) -> 7.69 | F99: 20 | G99: =ROUND(E99*F99,2) -> 153.8
B100: ESTACA 18 A 19 | C100: 7.66 | D100: 7.6 | E100: =ROUND((C100+D100)/2,2) -> 7.63 | F100: 20 | G100: =ROUND(E100*F100,2) -> 152.6
B101: ESTACA 19 A 20 | C101: 7.06 | D101: 7.55 | E101: =ROUND((C101+D101)/2,2) -> 7.31 | F101: 20 | G101: =ROUND(E101*F101,2) -> 146.2
F102: SUB-TOTAL 01 = | G102: =SUM(G97:G101) -> 721.6
B103: Área recapeada | C103: =G102 -> 721.6 | D103: m²
B104: Espessura | C104: 0.05 | D104: m
B105: Peso específico | C105: 2.4 | D105: t/m³
B106: Peso parcial | C106: =ROUND(C103*C104*C105,2) -> 86.59 | D106: T
C108: largura 1 (m) | D108: largura 2 (m) | E108: largura média (m) | F108: comprimento (m) | G108: área(m²)
A109: ESTACA 20 A 25 | B109: ESTACA 20 A 21 | C109: 7.37 | D109: 6.87 | E109: =ROUND((C109+D109)/2,2) -> 7.12 | F109: 20 | G109: =ROUND(E109*F109,2) -> 142.4
B110: ESTACA 21 A 22 | C110: 6.67 | D110: 6.69 | E110: =ROUND((C110+D110)/2,2) -> 6.68 | F110: 20 | G110: =ROUND(E110*F110,2) -> 133.6
B111: ESTACA 22 A 23 | C111: 6.61 | D111: 6.59 | E111: =ROUND((C111+D111)/2,2) -> 6.6 | F111: 20 | G111: =ROUND(E111*F111,2) -> 132
B112: ESTACA 23 A 24 | C112: 6.74 | D112: 6.43 | E112: =ROUND((C112+D112)/2,2) -> 6.59 | F112: 20 | G112: =ROUND(E112*F112,2) -> 131.8
B113: ESTACA 24 A 25 | C113: 6.41 | D113: 6.5 | E113: =ROUND((C113+D113)/2,2) -> 6.46 | F113: 20 | G113: =ROUND(E113*F113,2) -> 129.2
F114: SUB-TOTAL 01 = | G114: =SUM(G109:G113) -> 669
B115: Área recapeada | C115: =G114 -> 669 | D115: m²
B116: Espessura | C116: 0.05 | D116: m
B117: Peso específico | C117: 2.4 | D117: t/m³
B118: Peso parcial | C118: =ROUND(C115*C116*C117,2) -> 80.28 | D118: T
C120: largura 1 (m) | D120: largura 2 (m) | E120: largura média (m) | F120: comprimento (m) | G120: área(m²)
...
