Workbook
Name activatedados.form2: IF(ISNUMBER([1]Eventograma_e_Quantitativos!$K1),[1]Eventograma_e_Quantitativos!$K1&"-"&INDEX(Eventos,[1]Eventograma_e_Quantitativos!$K1,2),"")
Name artFiscal: [1]DADOS!$D$23
Name creaFiscal: [1]DADOS!$C$23
Name creaPLE: [1]DADOS!$C$20
Name Cronograma: [1]Cronograma!$B$42:$BB$47
Name Cronograma.MesesQuadro: COUNTA(OFFSET(Cronograma,0,0,,1))*4
Name Cronograma.NumPeríodos: MAX(Cronograma.Períodos)
Name Cronograma.Períodos: OFFSET([1]Cronograma!$E$33,1,0):OFFSET([1]Cronograma!$BB$42,-1,0)
Name CronoPrev: OFFSET([1]CronoPrev!$B$13,1,0):OFFSET([1]CronoPrev!$G$26,-1,0)
Name dataInicioObra: [1]DADOS!$H$13
Name deactivatedados.form1: IF([1]Eventograma_e_Quantitativos!B1="","",VALUE(LEFT([1]Eventograma_e_Quantitativos!B1,(FIND("-",[1]Eventograma_e_Quantitativos!B1,1))-1)))
Name Detalhamento: OFFSET(Detalhamento!$A$16,1,0):OFFSET(Detalhamento!$A$78,-1,0)
Name Detalhamento.Filtro: Detalhamento!$A$16:$J$16
Name Detalhamento.Imprimir: Detalhamento!$E$2:OFFSET(Detalhamento!$K$81,0,MAX(TRUNC(numFrentes/6,0)+IF(MOD(numFrentes,6)<>0,1,0),1)*6)
Name Detalhamento.LinhaPadrão: Detalhamento!$1:$1
Name Detalhamento.OpçãoServiços: Detalhamento!$B$12
Name Detalhamento.OpçõesExibição: Detalhamento!$B$6:$B$7
Name Detalhamento.OpçõesServiços: Detalhamento!$B$9:$B$11
Name Eventograma_e_Quantitativos.Imprimir: [1]Eventograma_e_Quantitativos!$C$4:OFFSET([1]Eventograma_e_Quantitativos!$M$82,0,MAX(TRUNC(numFrentes/6,0)+IF(MOD(numFrentes,6)<>0,1,0),1)*6)
Name Eventos: OFFSET([1]DADOS!$A$33,1,0):OFFSET([1]DADOS!$C$42,-1,0)
Name EventosVariaveis: OFFSET([1]DADOS!$A$34,1,0):OFFSET([1]DADOS!$C$42,-1,0)
Name hoje: TODAY()
Name Import.Item: OFFSET([1]Eventograma_e_Quantitativos!$D$17,1,0):OFFSET([1]Eventograma_e_Quantitativos!$D$71,-1,0)
Name Import.Município: [1]DADOS!$D$10
Name Import.numEventos: OFFSET([1]Eventograma_e_Quantitativos!$K$17,1,0):OFFSET([1]Eventograma_e_Quantitativos!$K$71,-1,0)
Name Import.PLE: OFFSET([1]PLE!$E$33,1,0):OFFSET([1]PLE!$BB$42,-1,0)
Name Import.PLQ: OFFSET([1]Eventograma_e_Quantitativos!$N$17,1,0):OFFSET([1]Eventograma_e_Quantitativos!$BK$71,-1,0)
Name Import.PreçoTotal: OFFSET([1]Eventograma_e_Quantitativos!$I$17,1,0):OFFSET([1]Eventograma_e_Quantitativos!$I$71,-1,0)
Name Import.Unidade: OFFSET([1]Eventograma_e_Quantitativos!$F$17,1,0):OFFSET([1]Eventograma_e_Quantitativos!$F$71,-1,0)
Name LForçamento: OFFSET([1]Eventograma_e_Quantitativos!$A$71:$IV$71,-1,0)
Name LIorçamento: OFFSET([1]Eventograma_e_Quantitativos!$A$17:$IV$17,1,0)
Name mais_um: OFFSET(Detalhamento!A1,-1,0)+1
Name mediçao: [1]PLE!$AX$28
Name Medições: [1]PLE!$B$42:$BB$49
Name Nível: Detalhamento!$B1
Name numEventos: COUNT(OFFSET(Eventos,0,0,,1))
Name numFrentes: COUNTIF([1]Eventograma_e_Quantitativos!$N$15:$BK$15,"<>"&"")
Name periodoMediçao: INDEX([1]Resumo_de_Acompanhamento!$C$14:$C$37,mediçao)
Name PLE: OFFSET([1]PLE!$E$33,1,0):OFFSET([1]PLE!$BB$42,-1,0)
Name PreçoServiçoPorFrente: OFFSET([1]Eventograma_e_Quantitativos!$BM$17,1,0):OFFSET([1]Eventograma_e_Quantitativos!$DJ$71,-1,0)
Name PreçoServiçosPorFrente.Executados: OFFSET([1]Eventograma_e_Quantitativos!$DM$17,1,0):OFFSET([1]Eventograma_e_Quantitativos!$FJ$71,-1,0)
Name respFiscal: [1]DADOS!$A$23
Name respPLE: [1]DADOS!$A$20
Name Resumo_de_Acompanhamento: OFFSET([1]Resumo_de_Acompanhamento!$B$13,1,0):OFFSET([1]Resumo_de_Acompanhamento!$M$38,-1,0)
Name TituloEventos: OFFSET([1]DADOS!$J$33,1,0):OFFSET([1]DADOS!$J$42,-1,0)
Name TotalEventos: SUM(TotalPorEvento)
Name TotalPorEvento: [1]Eventograma_e_Quantitativos!$I$71:OFFSET([1]Eventograma_e_Quantitativos!$I$79,-1,0)
Name últimaMedição: MAX(Import.PLE)
Name ValoresPorEvento: [1]Eventograma_e_Quantitativos!$N$71:OFFSET([1]Eventograma_e_Quantitativos!$BK$79,-1,0)

Sheet Detalhamento
A1: =mais_um -> #REF! | B1: =OFFSET(LIorçamento,$A1-1,B$16,1,1) -> #REF! | E1: =OFFSET(LIorçamento,$A1-1,E$16,1,1) -> #REF! | F1: =CHOOSE($B$8,IF(OR(Nível="Serviço",Nível="Evento"),E1*10^4+IF(Nível<>"Evento",A1,0),0),IF(Nível<>"Evento",A1,0)) -> #REF! | G1: =OFFSET(LIorçamento,$A1-1,G$16,1,1) -> #REF! | H1: =OFFSET(LIorçamento,$A1-1,H$16,1,1) -> #REF! | I1: =IF(OR(Nível="Serviço",Nível="evento"),OFFSET(LIorçamento,$A1-1,I$16,1,1),"") -> #REF! | J1: =IF(OR(Nível="Serviço",Nível="evento"),SUM(L1:BI1),"") -> #REF! | L1: =IF(L$13="",0,CHOOSE(Detalhamento.OpçãoServiços,OFFSET(Import.PLQ,$A1-1,L$15-1,1,1),IF($E1<>1,IF(ISNUMBER(INDEX(Import.PLE,Detalhamento!$E1,Detalhamento!L$15)),IF(INDEX(Import.PLE,Detalhamento!$E1,Detalhamento!L$15)<=mediçao,OFFSET(Import.PLQ,$A1-1,L$15-1,1,1),0),0),[1]PLE!$AA$28*OFFSET(Import.PLQ,$A1-1,L$15-1,1,1)),IF($E1<>1,IF(ISNUMBER(INDEX(Import.PLE,Detalhamento!$E1,Detalhamento!L$15)),IF(INDEX(Import.PLE,Detalhamento!$E1,Detalhamento!L$15)<=mediçao,0,OFFSET(Import.PLQ,$A1-1,L$15-1,1,1)),OFFSET(Import.PLQ,$A1-1,L$15-1,1,1)),(1-[1]PLE!$AA$28)*OFFSET(Import.PLQ,$A1-1,L$15-1,1,1)))) -> #REF! | M1: =IF(M$13="",0,CHOOSE(Detalhamento.OpçãoServiços,OFFSET(Import.PLQ,$A1-1,M$15-1,1,1),IF($E1<>1,IF(ISNUMBER(INDEX(Import.PLE,Detalhamento!$E1,Detalhamento!M$15)),IF(INDEX(Import.PLE,Detalhamento!$E1,Detalhamento!M$15)<=mediçao,OFFSET(Import.PLQ,$A1-1,M$15-1,1,1),0),0),[1]PLE!$AA$28*OFFSET(Import.PLQ,$A1-1,M$15-1,1,1)),IF($E1<>1,IF(ISNUMBER(INDEX(Import.PLE,Detalhamento!$E1,Detalhamento!M$15)),IF(INDEX(Import.PLE,Detalhamento!$E1,Detalhamento!M$15)<=mediçao,0,OFFSET(Import.PLQ,$A1-1,M$15-1,1,1)),OFFSET(Import.PLQ,$A1-1,M$15-1,1,1)),(1-[1]PLE!$AA$28)*OFFSET(Import.PLQ,$A1-1,M$15-1,1,1)))) -> #REF! | N1: =IF(N$13="",0,CHOOSE(Detalhamento.OpçãoServiços,OFFSET(Import.PLQ,$A1-1,N$15-1,1,1),IF($E1<>1,IF(ISNUMBER(INDEX(Import.PLE,Detalhamento!$E1,Detalhamento!N$15)),IF(INDEX(Import.PLE,Detalhamento!$E1,Detalhamento!N$15)<=mediçao,OFFSET(Import.PLQ,$A1-1,N$15-1,1,1),0),0),[1]PLE!$AA$28*OFFSET(Import.PLQ,$A1-1,N$15-1,1,1)),IF($E1<>1,IF(ISNUMBER(INDEX(Import.PLE,Detalhamento!$E1,Detalhamento!N$15)),IF(INDEX(Import.PLE,Detalhamento!$E1,Detalhamento!N$15)<=mediçao,0,OFFSET(Import.PLQ,$A1-1,N$15-1,1,1)),OFFSET(Import.PLQ,$A1-1,N$15-1,1,1)),(1-[1]PLE!$AA$28)*OFFSET(Import.PLQ,$A1-1,N$15-1,1,1)))) -> #REF! | O1: =IF(O$13="",0,CHOOSE(Detalhamento.OpçãoServiços,OFFSET(Import.PLQ,$A1-1,O$15-1,1,1),IF($E1<>1,IF(ISNUMBER(INDEX(Import.PLE,Detalhamento!$E1,Detalhamento!O$15)),IF(INDEX(Import.PLE,Detalhamento!$E1,Detalhamento!O$15)<=mediçao,OFFSET(Import.PLQ,$A1-1,O$15-1,1,1),0),0),[1]PLE!$AA$28*OFFSET(Import.PLQ,$A1-1,O$15-1,1,1)),IF($E1<>1,IF(ISNUMBER(INDEX(Import.PLE,Detalhamento!$E1,Detalhamento!O$15)),IF(INDEX(Import.PLE,Detalhamento!$E1,Detalhamento!O$15)<=mediçao,0,OFFSET(Import.PLQ,$A1-1,O$15-1,1,1)),OFFSET(Import.PLQ,$A1-1,O$15-1,1,1)),(1-[1]PLE!$AA$28)*OFFSET(Import.PLQ,$A1-1,O$15-1,1,1)))) -> #REF! | P1: =IF(P$13="",0,CHOOSE(Detalhamento.OpçãoServiços,OFFSET(Import.PLQ,$A1-1,P$15-1,1,1),IF($E1<>1,IF(ISNUMBER(INDEX(Import.PLE,Detalhamento!$E1,Detalhamento!P$15)),IF(INDEX(Import.PLE,Detalhamento!$E1,Detalhamento!P$15)<=mediçao,OFFSET(Import.PLQ,$A1-1,P$15-1,1,1),0),0),[1]PLE!$AA$28*OFFSET(Import.PLQ,$A1-1,P$15-1,1,1)),IF($E1<>1,IF(ISNUMBER(INDEX(Import.PLE,Detalhamento!$E1,Detalhamento!P$15)),IF(INDEX(Import.PLE,Detalhamento!$E1,Detalhamento!P$15)<=mediçao,0,OFFSET(Import.PLQ,$A1-1,P$15-1,1,1)),OFFSET(Import.PLQ,$A1-1,P$15-1,1,1)),(1-[1]PLE!$AA$28)*OFFSET(Import.PLQ,$A1-1,P$15-1,1,1)))) -> #REF! | Q1: =IF(Q$13="",0,CHOOSE(Detalhamento.OpçãoServiços,OFFSET(Import.PLQ,$A1-1,Q$15-1,1,1),IF($E1<>1,IF(ISNUMBER(INDEX(Import.PLE,Detalhamento!$E1,Detalhamento!Q$15)),IF(INDEX(Import.PLE,Detalhamento!$E1,Detalhamento!Q$15)<=mediçao,OFFSET(Import.PLQ,$A1-1,Q$15-1,1,1),0),0),[1]PLE!$AA$28*OFFSET(Import.PLQ,$A1-1,Q$15-1,1,1)),IF($E1<>1,IF(ISNUMBER(INDEX(Import.PLE,Detalhamento!$E1,Detalhamento!Q$15)),IF(INDEX(Import.PLE,Detalhamento!$E1,Detalhamento!Q$15)<=mediçao,0,OFFSET(Import.PLQ,$A1-1,Q$15-1,1,1)),OFFSET(Import.PLQ,$A1-1,Q$15-1,1,1)),(1-[1]PLE!$AA$28)*OFFSET(Import.PLQ,$A1-1,Q$15-1,1,1)))) -> #REF! | R1: =IF(R$13="",0,CHOOSE(Detalhamento.OpçãoServiços,OFFSET(Import.PLQ,$A1-1,R$15-1,1,1),IF($E1<>1,IF(ISNUMBER(INDEX(Import.PLE,Detalhamento!$E1,Detalhamento!R$15)),IF(INDEX(Import.PLE,Detalhamento!$E1,Detalhamento!R$15)<=mediçao,OFFSET(Import.PLQ,$A1-1,R$15-1,1,1),0),0),[1]PLE!$AA$28*OFFSET(Import.PLQ,$A1-1,R$15-1,1,1)),IF($E1<>1,IF(ISNUMBER(INDEX(Import.PLE,Detalhamento!$E1,Detalhamento!R$15)),IF(INDEX(Import.PLE,Detalhamento!$E1,Detalhamento!R$15)<=mediçao,0,OFFSET(Import.PLQ,$A1-1,R$15-1,1,1)),OFFSET(Import.PLQ,$A1-1,R$15-1,1,1)),(1-[1]PLE!$AA$28)*OFFSET(Import.PLQ,$A1-1,R$15-1,1,1)))) -> 0 | S1: =IF(S$13="",0,CHOOSE(Detalhamento.OpçãoServiços,OFFSET(Import.PLQ,$A1-1,S$15-1,1,1),IF($E1<>1,IF(ISNUMBER(INDEX(Import.PLE,Detalhamento!$E1,Detalhamento!S$15)),IF(INDEX(Import.PLE,Detalhamento!$E1,Detalhamento!S$15)<=mediçao,OFFSET(Import.PLQ,$A1-1,S$15-1,1,1),0),0),[1]PLE!$AA$28*OFFSET(Import.PLQ,$A1-1,S$15-1,1,1)),IF($E1<>1,IF(ISNUMBER(INDEX(Import.PLE,Detalhamento!$E1,Detalhamento!S$15)),IF(INDEX(Import.PLE,Detalhamento!$E1,Detalhamento!S$15)<=mediçao,0,OFFSET(Import.PLQ,$A1-1,S$15-1,1,1)),OFFSET(Import.PLQ,$A1-1,S$15-1,1,1)),(1-[1]PLE!$AA$28)*OFFSET(Import.PLQ,$A1-1,S$15-1,1,1)))) -> 0 | ... BI1: =IF(BI$13="",0,CHOOSE(Detalhamento.OpçãoServiços,OFFSET(Import.PLQ,$A1-1,BI$15-1,1,1),IF($E1<>1,IF(ISNUMBER(INDEX(Import.PLE,Detalhamento!$E1,Detalhamento!BI$15)),IF(INDEX(Import.PLE,Detalhamento!$E1,Detalhamento!BI$15)<=mediçao,OFFSET(Import.PLQ,$A1-1,BI$15-1,1,1),0),0),[1]PLE!$AA$28*OFFSET(Import.PLQ,$A1-1,BI$15-1,1,1)),IF($E1<>1,IF(ISNUMBER(INDEX(Import.PLE,Detalhamento!$E1,Detalhamento!BI$15)),IF(INDEX(Import.PLE,Detalhamento!$E1,Detalhamento!BI$15)<=mediçao,0,OFFSET(Import.PLQ,$A1-1,BI$15-1,1,1)),OFFSET(Import.PLQ,$A1-1,BI$15-1,1,1)),(1-[1]PLE!$AA$28)*OFFSET(Import.PLQ,$A1-1,BI$15-1,1,1)))) -> 0
H2: PLE - Planilha de Levantamento de Eventos Detalhamento de Eventos | Q2: Grau de Sigilo #PUBLICO | W2: Grau de Sigilo #PUBLICO | AC2: Grau de Sigilo #PUBLICO | AI2: Grau de Sigilo #PUBLICO | AO2: Grau de Sigilo #PUBLICO | AU2: Grau de Sigilo #PUBLICO | BA2: Grau de Sigilo #PUBLICO | BG2: Grau de Sigilo #PUBLICO
B6: Eventos
B7: Orçamento
B8: 1
B9: Todos
B10: Executados
B11: A Executar
B12: 1
J13: Frente de Obra: | L13: =IF([1]Eventograma_e_Quantitativos!N15<>"",[1]Eventograma_e_Quantitativos!N15,"") -> RUA NILTON PIZZOL | M13: =IF([1]Eventograma_e_Quantitativos!O15<>"",[1]Eventograma_e_Quantitativos!O15,"") -> AVENIDA BEIRA RIO (ESTACA 1 Á 13) | N13: =IF([1]Eventograma_e_Quantitativos!P15<>"",[1]Eventograma_e_Quantitativos!P15,"") -> AVENIDA BEIRA RIO (ESTACA 13 Á 27) | O13: =IF([1]Eventograma_e_Quantitativos!Q15<>"",[1]Eventograma_e_Quantitativos!Q15,"") -> RUA NOSSA SENHORA DA CONCEIÇÃO (ESTACA 1 Á 8) | P13: =IF([1]Eventograma_e_Quantitativos!R15<>"",[1]Eventograma_e_Quantitativos!R15,"") -> RUA NOSSA SENHORA DA CONCEIÇÃO (ESTACA 8 Á 16) | Q13: =IF([1]Eventograma_e_Quantitativos!S15<>"",[1]Eventograma_e_Quantitativos!S15,"") -> RUA NOSSA SENHORA DA CONCEIÇÃO (16 Á 24) | R13: =IF([1]Eventograma_e_Quantitativos!T15<>"",[1]Eventograma_e_Quantitativos!T15,"") | S13: =IF([1]Eventograma_e_Quantitativos!U15<>"",[1]Eventograma_e_Quantitativos!U15,"") | ... BI13: =IF([1]Eventograma_e_Quantitativos!BK15<>"",[1]Eventograma_e_Quantitativos!BK15,"")
E14: ="Valor "&CHOOSE(Detalhamento.OpçãoServiços,"de Investimento","Executado","A Executar")&": R$ "&TEXT(SUMIF(OFFSET(Detalhamento,0,6),"Evento",OFFSET(Detalhamento,0,9)),"#.#0,00") -> Valor de Investimento: R$ 660.059,16 | J14: Total por Frente (R$): | L14: =CHOOSE(Detalhamento.OpçãoServiços,SUM(OFFSET(PreçoServiçoPorFrente,0,L15-1,,1)),SUM(OFFSET(PreçoServiçosPorFrente.Executados,0,L15-1,,1)),SUM(OFFSET(PreçoServiçoPorFrente,0,L15-1,,1))-SUM(OFFSET(PreçoServiçosPorFrente.Executados,0,L15-1,,1))) -> 36357.236 | M14: =CHOOSE(Detalhamento.OpçãoServiços,SUM(OFFSET(PreçoServiçoPorFrente,0,M15-1,,1)),SUM(OFFSET(PreçoServiçosPorFrente.Executados,0,M15-1,,1)),SUM(OFFSET(PreçoServiçoPorFrente,0,M15-1,,1))-SUM(OFFSET(PreçoServiçosPorFrente.Executados,0,M15-1,,1))) -> 208696.82 | N14: =CHOOSE(Detalhamento.OpçãoServiços,SUM(OFFSET(PreçoServiçoPorFrente,0,N15-1,,1)),SUM(OFFSET(PreçoServiçosPorFrente.Executados,0,N15-1,,1)),SUM(OFFSET(PreçoServiçoPorFrente,0,N15-1,,1))-SUM(OFFSET(PreçoServiçosPorFrente.Executados,0,N15-1,,1))) -> 164333.84 | O14: =CHOOSE(Detalhamento.OpçãoServiços,SUM(OFFSET(PreçoServiçoPorFrente,0,O15-1,,1)),SUM(OFFSET(PreçoServiçosPorFrente.Executados,0,O15-1,,1)),SUM(OFFSET(PreçoServiçoPorFrente,0,O15-1,,1))-SUM(OFFSET(PreçoServiçosPorFrente.Executados,0,O15-1,,1))) -> 81890.218 | P14: =CHOOSE(Detalhamento.OpçãoServiços,SUM(OFFSET(PreçoServiçoPorFrente,0,P15-1,,1)),SUM(OFFSET(PreçoServiçosPorFrente.Executados,0,P15-1,,1)),SUM(OFFSET(PreçoServiçoPorFrente,0,P15-1,,1))-SUM(OFFSET(PreçoServiçosPorFrente.Executados,0,P15-1,,1))) -> 83177.878 | Q14: =CHOOSE(Detalhamento.OpçãoServiços,SUM(OFFSET(PreçoServiçoPorFrente,0,Q15-1,,1)),SUM(OFFSET(PreçoServiçosPorFrente.Executados,0,Q15-1,,1)),SUM(OFFSET(PreçoServiçoPorFrente,0,Q15-1,,1))-SUM(OFFSET(PreçoServiçosPorFrente.Executados,0,Q15-1,,1))) -> 85603.16 | R14: =CHOOSE(Detalhamento.OpçãoServiços,SUM(OFFSET(PreçoServiçoPorFrente,0,R15-1,,1)),SUM(OFFSET(PreçoServiçosPorFrente.Executados,0,R15-1,,1)),SUM(OFFSET(PreçoServiçoPorFrente,0,R15-1,,1))-SUM(OFFSET(PreçoServiçosPorFrente.Executados,0,R15-1,,1))) -> 0 | S14: =CHOOSE(Detalhamento.OpçãoServiços,SUM(OFFSET(PreçoServiçoPorFrente,0,S15-1,,1)),SUM(OFFSET(PreçoServiçosPorFrente.Executados,0,S15-1,,1)),SUM(OFFSET(PreçoServiçoPorFrente,0,S15-1,,1))-SUM(OFFSET(PreçoServiçosPorFrente.Executados,0,S15-1,,1))) -> 0 | ... BI14: =CHOOSE(Detalhamento.OpçãoServiços,SUM(OFFSET(PreçoServiçoPorFrente,0,BI15-1,,1)),SUM(OFFSET(PreçoServiçosPorFrente.Executados,0,BI15-1,,1)),SUM(OFFSET(PreçoServiçoPorFrente,0,BI15-1,,1))-SUM(OFFSET(PreçoServiçosPorFrente.Executados,0,BI15-1,,1))) -> 0
E15: Evento | F15: Linha Orç | G15: Item Orç | H15: Título dos Eventos / Descrição Serviço | I15: Unid. | J15: Qtde. | L15: 1 | M15: 2 | N15: 3 | O15: 4 | P15: 5 | Q15: 6 | R15: 7 | S15: 8 | T15: 9 | U15: 10 | V15: 11 | W15: 12 | X15: 13 | Y15: 14 | Z15: 15 | AA15: 16 | AB15: 17 | AC15: 18 | AD15: 19 | AE15: 20 | AF15: 21 | AG15: 22 | AH15: 23 | AI15: 24 | AJ15: 25 | AK15: 26 | AL15: 27 | AM15: 28 | AN15: 29 | AO15: 30 | AP15: 31 | AQ15: 32 | AR15: 33 | AS15: 34 | AT15: 35 | AU15: 36 | AV15: 37 | AW15: 38 | AX15: 39 | AY15: 40 | AZ15: 41 | BA15: 42 | BB15: 43 | BC15: 44 | BD15: 45 | BE15: 46 | BF15: 47 | BG15: 48 | BH15: 49 | BI15: 50
B16: 2 | E16: 10 | G16: 3 | H16: 4 | I16: 5 | J16: 8
A17: 1 | B17: =OFFSET(LIorçamento,$A17-1,B$16,1,1) -> Meta | E17: =OFFSET(LIorçamento,$A17-1,E$16,1,1) | F17: =CHOOSE($B$8,IF(OR(Nível="Serviço",Nível="Evento"),E17*10^4+IF(Nível<>"Evento",A17,0),0),IF(Nível<>"Evento",A17,0)) -> 0 | G17: =OFFSET(LIorçamento,$A17-1,G$16,1,1) -> 1 | H17: =OFFSET(LIorçamento,$A17-1,H$16,1,1) -> INSTALAÇÃO DO CANTEIRO DE OBRAS | I17: =IF(OR(Nível="Serviço",Nível="evento"),OFFSET(LIorçamento,$A17-1,I$16,1,1),"") | J17: =IF(OR(Nível="Serviço",Nível="evento"),SUM(L17:BI17),"") | L17: =IF(L$13="",0,CHOOSE(Detalhamento.OpçãoServiços,OFFSET(Import.PLQ,$A17-1,L$15-1,1,1),IF($E17<>1,IF(ISNUMBER(INDEX(Import.PLE,Detalhamento!$E17,Detalhamento!L$15)),IF(INDEX(Import.PLE,Detalhamento!$E17,Detalhamento!L$15)<=mediçao,OFFSET(Import.PLQ,$A17-1,L$15-1,1,1),0),0),[1]PLE!$AA$28*OFFSET(Import.PLQ,$A17-1,L$15-1,1,1)),IF($E17<>1,IF(ISNUMBER(INDEX(Import.PLE,Detalhamento!$E17,Detalhamento!L$15)),IF(INDEX(Import.PLE,Detalhamento!$E17,Detalhamento!L$15)<=mediçao,0,OFFSET(Import.PLQ,$A17-1,L$15-1,1,1)),OFFSET(Import.PLQ,$A17-1,L$15-1,1,1)),(1-[1]PLE!$AA$28)*OFFSET(Import.PLQ,$A17-1,L$15-1,1,1)))) -> 0 | M17: =IF(M$13="",0,CHOOSE(Detalhamento.OpçãoServiços,OFFSET(Import.PLQ,$A17-1,M$15-1,1,1),IF($E17<>1,IF(ISNUMBER(INDEX(Import.PLE,Detalhamento!$E17,Detalhamento!M$15)),IF(INDEX(Import.PLE,Detalhamento!$E17,Detalhamento!M$15)<=mediçao,OFFSET(Import.PLQ,$A17-1,M$15-1,1,1),0),0),[1]PLE!$AA$28*OFFSET(Import.PLQ,$A17-1,M$15-1,1,1)),IF($E17<>1,IF(ISNUMBER(INDEX(Import.PLE,Detalhamento!$E17,Detalhamento!M$15)),IF(INDEX(Import.PLE,Detalhamento!$E17,Detalhamento!M$15)<=mediçao,0,OFFSET(Import.PLQ,$A17-1,M$15-1,1,1)),OFFSET(Import.PLQ,$A17-1,M$15-1,1,1)),(1-[1]PLE!$AA$28)*OFFSET(Import.PLQ,$A17-1,M$15-1,1,1)))) -> 0 | N17: =IF(N$13="",0,CHOOSE(Detalhamento.OpçãoServiços,OFFSET(Import.PLQ,$A17-1,N$15-1,1,1),IF($E17<>1,IF(ISNUMBER(INDEX(Import.PLE,Detalhamento!$E17,Detalhamento!N$15)),IF(INDEX(Import.PLE,Detalhamento!$E17,Detalhamento!N$15)<=mediçao,OFFSET(Import.PLQ,$A17-1,N$15-1,1,1),0),0),[1]PLE!$AA$28*OFFSET(Import.PLQ,$A17-1,N$15-1,1,1)),IF($E17<>1,IF(ISNUMBER(INDEX(Import.PLE,Detalhamento!$E17,Detalhamento!N$15)),IF(INDEX(Import.PLE,Detalhamento!$E17,Detalhamento!N$15)<=mediçao,0,OFFSET(Import.PLQ,$A17-1,N$15-1,1,1)),OFFSET(Import.PLQ,$A17-1,N$15-1,1,1)),(1-[1]PLE!$AA$28)*OFFSET(Import.PLQ,$A17-1,N$15-1,1,1)))) -> 0 | O17: =IF(O$13="",0,CHOOSE(Detalhamento.OpçãoServiços,OFFSET(Import.PLQ,$A17-1,O$15-1,1,1),IF($E17<>1,IF(ISNUMBER(INDEX(Import.PLE,Detalhamento!$E17,Detalhamento!O$15)),IF(INDEX(Import.PLE,Detalhamento!$E17,Detalhamento!O$15)<=mediçao,OFFSET(Import.PLQ,$A17-1,O$15-1,1,1),0),0),[1]PLE!$AA$28*OFFSET(Import.PLQ,$A17-1,O$15-1,1,1)),IF($E17<>1,IF(ISNUMBER(INDEX(Import.PLE,Detalhamento!$E17,Detalhamento!O$15)),IF(INDEX(Import.PLE,Detalhamento!$E17,Detalhamento!O$15)<=mediçao,0,OFFSET(Import.PLQ,$A17-1,O$15-1,1,1)),OFFSET(Import.PLQ,$A17-1,O$15-1,1,1)),(1-[1]PLE!$AA$28)*OFFSET(Import.PLQ,$A17-1,O$15-1,1,1)))) -> 0 | P17: =IF(P$13="",0,CHOOSE(Detalhamento.OpçãoServiços,OFFSET(Import.PLQ,$A17-1,P$15-1,1,1),IF($E17<>1,IF(ISNUMBER(INDEX(Import.PLE,Detalhamento!$E17,Detalhamento!P$15)),IF(INDEX(Import.PLE,Detalhamento!$E17,Detalhamento!P$15)<=mediçao,OFFSET(Import.PLQ,$A17-1,P$15-1,1,1),0),0),[1]PLE!$AA$28*OFFSET(Import.PLQ,$A17-1,P$15-1,1,1)),IF($E17<>1,IF(ISNUMBER(INDEX(Import.PLE,Detalhamento!$E17,Detalhamento!P$15)),IF(INDEX(Import.PLE,Detalhamento!$E17,Detalhamento!P$15)<=mediçao,0,OFFSET(Import.PLQ,$A17-1,P$15-1,1,1)),OFFSET(Import.PLQ,$A17-1,P$15-1,1,1)),(1-[1]PLE!$AA$28)*OFFSET(Import.PLQ,$A17-1,P$15-1,1,1)))) -> 0 | Q17: =IF(Q$13="",0,CHOOSE(Detalhamento.OpçãoServiços,OFFSET(Import.PLQ,$A17-1,Q$15-1,1,1),IF($E17<>1,IF(ISNUMBER(INDEX(Import.PLE,Detalhamento!$E17,Detalhamento!Q$15)),IF(INDEX(Import.PLE,Detalhamento!$E17,Detalhamento!Q$15)<=mediçao,OFFSET(Import.PLQ,$A17-1,Q$15-1,1,1),0),0),[1]PLE!$AA$28*OFFSET(Import.PLQ,$A17-1,Q$15-1,1,1)),IF($E17<>1,IF(ISNUMBER(INDEX(Import.PLE,Detalhamento!$E17,Detalhamento!Q$15)),IF(INDEX(Import.PLE,Detalhamento!$E17,Detalhamento!Q$15)<=mediçao,0,OFFSET(Import.PLQ,$A17-1,Q$15-1,1,1)),OFFSET(Import.PLQ,$A17-1,Q$15-1,1,1)),(1-[1]PLE!$AA$28)*OFFSET(Import.PLQ,$A17-1,Q$15-1,1,1)))) -> 0 | R17: =IF(R$13="",0,CHOOSE(Detalhamento.OpçãoServiços,OFFSET(Import.PLQ,$A17-1,R$15-1,1,1),IF($E17<>1,IF(ISNUMBER(INDEX(Import.PLE,Detalhamento!$E17,Detalhamento!R$15)),IF(INDEX(Import.PLE,Detalhamento!$E17,Detalhamento!R$15)<=mediçao,OFFSET(Import.PLQ,$A17-1,R$15-1,1,1),0),0),[1]PLE!$AA$28*OFFSET(Import.PLQ,$A17-1,R$15-1,1,1)),IF($E17<>1,IF(ISNUMBER(INDEX(Import.PLE,Detalhamento!$E17,Detalhamento!R$15)),IF(INDEX(Import.PLE,Detalhamento!$E17,Detalhamento!R$15)<=mediçao,0,OFFSET(Import.PLQ,$A17-1,R$15-1,1,1)),OFFSET(Import.PLQ,$A17-1,R$15-1,1,1)),(1-[1]PLE!$AA$28)*OFFSET(Import.PLQ,$A17-1,R$15-1,1,1)))) -> 0 | S17: =IF(S$13="",0,CHOOSE(Detalhamento.OpçãoServiços,OFFSET(Import.PLQ,$A17-1,S$15-1,1,1),IF($E17<>1,IF(ISNUMBER(INDEX(Import.PLE,Detalhamento!$E17,Detalhamento!S$15)),IF(INDEX(Import.PLE,Detalhamento!$E17,Detalhamento!S$15)<=mediçao,OFFSET(Import.PLQ,$A17-1,S$15-1,1,1),0),0),[1]PLE!$AA$28*OFFSET(Import.PLQ,$A17-1,S$15-1,1,1)),IF($E17<>1,IF(ISNUMBER(INDEX(Import.PLE,Detalhamento!$E17,Detalhamento!S$15)),IF(INDEX(Import.PLE,Detalhamento!$E17,Detalhamento!S$15)<=mediçao,0,OFFSET(Import.PLQ,$A17-1,S$15-1,1,1)),OFFSET(Import.PLQ,$A17-1,S$15-1,1,1)),(1-[1]PLE!$AA$28)*OFFSET(Import.PLQ,$A17-1,S$15-1,1,1)))) -> 0 | ... BI17: =IF(BI$13="",0,CHOOSE(Detalhamento.OpçãoServiços,OFFSET(Import.PLQ,$A17-1,BI$15-1,1,1),IF($E17<>1,IF(ISNUMBER(INDEX(Import.PLE,Detalhamento!$E17,Detalhamento!BI$15)),IF(INDEX(Import.PLE,Detalhamento!$E17,Detalhamento!BI$15)<=mediçao,OFFSET(Import.PLQ,$A17-1,BI$15-1,1,1),0),0),[1]PLE!$AA$28*OFFSET(Import.PLQ,$A17-1,BI$15-1,1,1)),IF($E17<>1,IF(ISNUMBER(INDEX(Import.PLE,Detalhamento!$E17,Detalhamento!BI$15)),IF(INDEX(Import.PLE,Detalhamento!$E17,Detalhamento!BI$15)<=mediçao,0,OFFSET(Import.PLQ,$A17-1,BI$15-1,1,1)),OFFSET(Import.PLQ,$A17-1,BI$15-1,1,1)),(1-[1]PLE!$AA$28)*OFFSET(Import.PLQ,$A17-1,BI$15-1,1,1)))) -> 0
A18: 54 | B18: =OFFSET(LIorçamento,$A18-1,B$16,1,1) -> Evento | E18: =OFFSET(LIorçamento,$A18-1,E$16,1,1) -> 1 | F18: =CHOOSE($B$8,IF(OR(Nível="Serviço",Nível="Evento"),E18*10^4+IF(Nível<>"Evento",A18,0),0),IF(Nível<>"Evento",A18,0)) -> 10000 | G18: =OFFSET(LIorçamento,$A18-1,G$16,1,1) -> Evento | H18: =OFFSET(LIorçamento,$A18-1,H$16,1,1) -> Administração Local | I18: =IF(OR(Nível="Serviço",Nível="evento"),OFFSET(LIorçamento,$A18-1,I$16,1,1),"") -> R$ | J18: =IF(OR(Nível="Serviço",Nível="evento"),SUM(L18:BI18),"") -> 27044.77 | L18: =IF(L$13="",0,CHOOSE(Detalhamento.OpçãoServiços,OFFSET(Import.PLQ,$A18-1,L$15-1,1,1),IF($E18<>1,IF(ISNUMBER(INDEX(Import.PLE,Detalhamento!$E18,Detalhamento!L$15)),IF(INDEX(Import.PLE,Detalhamento!$E18,Detalhamento!L$15)<=mediçao,OFFSET(Import.PLQ,$A18-1,L$15-1,1,1),0),0),[1]PLE!$AA$28*OFFSET(Import.PLQ,$A18-1,L$15-1,1,1)),IF($E18<>1,IF(ISNUMBER(INDEX(Import.PLE,Detalhamento!$E18,Detalhamento!L$15)),IF(INDEX(Import.PLE,Detalhamento!$E18,Detalhamento!L$15)<=mediçao,0,OFFSET(Import.PLQ,$A18-1,L$15-1,1,1)),OFFSET(Import.PLQ,$A18-1,L$15-1,1,1)),(1-[1]PLE!$AA$28)*OFFSET(Import.PLQ,$A18-1,L$15-1,1,1)))) -> 4507.4617 | M18: =IF(M$13="",0,CHOOSE(Detalhamento.OpçãoServiços,OFFSET(Import.PLQ,$A18-1,M$15-1,1,1),IF($E18<>1,IF(ISNUMBER(INDEX(Import.PLE,Detalhamento!$E18,Detalhamento!M$15)),IF(INDEX(Import.PLE,Detalhamento!$E18,Detalhamento!M$15)<=mediçao,OFFSET(Import.PLQ,$A18-1,M$15-1,1,1),0),0),[1]PLE!$AA$28*OFFSET(Import.PLQ,$A18-1,M$15-1,1,1)),IF($E18<>1,IF(ISNUMBER(INDEX(Import.PLE,Detalhamento!$E18,Detalhamento!M$15)),IF(INDEX(Import.PLE,Detalhamento!$E18,Detalhamento!M$15)<=mediçao,0,OFFSET(Import.PLQ,$A18-1,M$15-1,1,1)),OFFSET(Import.PLQ,$A18-1,M$15-1,1,1)),(1-[1]PLE!$AA$28)*OFFSET(Import.PLQ,$A18-1,M$15-1,1,1)))) -> 4507.4617 | N18: =IF(N$13="",0,CHOOSE(Detalhamento.OpçãoServiços,OFFSET(Import.PLQ,$A18-1,N$15-1,1,1),IF($E18<>1,IF(ISNUMBER(INDEX(Import.PLE,Detalhamento!$E18,Detalhamento!N$15)),IF(INDEX(Import.PLE,Detalhamento!$E18,Detalhamento!N$15)<=mediçao,OFFSET(Import.PLQ,$A18-1,N$15-1,1,1),0),0),[1]PLE!$AA$28*OFFSET(Import.PLQ,$A18-1,N$15-1,1,1)),IF($E18<>1,IF(ISNUMBER(INDEX(Import.PLE,Detalhamento!$E18,Detalhamento!N$15)),IF(INDEX(Import.PLE,Detalhamento!$E18,Detalhamento!N$15)<=mediçao,0,OFFSET(Import.PLQ,$A18-1,N$15-1,1,1)),OFFSET(Import.PLQ,$A18-1,N$15-1,1,1)),(1-[1]PLE!$AA$28)*OFFSET(Import.PLQ,$A18-1,N$15-1,1,1)))) -> 4507.4617 | O18: =IF(O$13="",0,CHOOSE(Detalhamento.OpçãoServiços,OFFSET(Import.PLQ,$A18-1,O$15-1,1,1),IF($E18<>1,IF(ISNUMBER(INDEX(Import.PLE,Detalhamento!$E18,Detalhamento!O$15)),IF(INDEX(Import.PLE,Detalhamento!$E18,Detalhamento!O$15)<=mediçao,OFFSET(Import.PLQ,$A18-1,O$15-1,1,1),0),0),[1]PLE!$AA$28*OFFSET(Import.PLQ,$A18-1,O$15-1,1,1)),IF($E18<>1,IF(ISNUMBER(INDEX(Import.PLE,Detalhamento!$E18,Detalhamento!O$15)),IF(INDEX(Import.PLE,Detalhamento!$E18,Detalhamento!O$15)<=mediçao,0,OFFSET(Import.PLQ,$A18-1,O$15-1,1,1)),OFFSET(Import.PLQ,$A18-1,O$15-1,1,1)),(1-[1]PLE!$AA$28)*OFFSET(Import.PLQ,$A18-1,O$15-1,1,1)))) -> 4507.4617 | P18: =IF(P$13="",0,CHOOSE(Detalhamento.OpçãoServiços,OFFSET(Import.PLQ,$A18-1,P$15-1,1,1),IF($E18<>1,IF(ISNUMBER(INDEX(Import.PLE,Detalhamento!$E18,Detalhamento!P$15)),IF(INDEX(Import.PLE,Detalhamento!$E18,Detalhamento!P$15)<=mediçao,OFFSET(Import.PLQ,$A18-1,P$15-1,1,1),0),0),[1]PLE!$AA$28*OFFSET(Import.PLQ,$A18-1,P$15-1,1,1)),IF($E18<>1,IF(ISNUMBER(INDEX(Import.PLE,Detalhamento!$E18,Detalhamento!P$15)),IF(INDEX(Import.PLE,Detalhamento!$E18,Detalhamento!P$15)<=mediçao,0,OFFSET(Import.PLQ,$A18-1,P$15-1,1,1)),OFFSET(Import.PLQ,$A18-1,P$15-1,1,1)),(1-[1]PLE!$AA$28)*OFFSET(Import.PLQ,$A18-1,P$15-1,1,1)))) -> 4507.4617 | Q18: =IF(Q$13="",0,CHOOSE(Detalhamento.OpçãoServiços,OFFSET(Import.PLQ,$A18-1,Q$15-1,1,1),IF($E18<>1,IF(ISNUMBER(INDEX(Import.PLE,Detalhamento!$E18,Detalhamento!Q$15)),IF(INDEX(Import.PLE,Detalhamento!$E18,Detalhamento!Q$15)<=mediçao,OFFSET(Import.PLQ,$A18-1,Q$15-1,1,1),0),0),[1]PLE!$AA$28*OFFSET(Import.PLQ,$A18-1,Q$15-1,1,1)),IF($E18<>1,IF(ISNUMBER(INDEX(Import.PLE,Detalhamento!$E18,Detalhamento!Q$15)),IF(INDEX(Import.PLE,Detalhamento!$E18,Detalhamento!Q$15)<=mediçao,0,OFFSET(Import.PLQ,$A18-1,Q$15-1,1,1)),OFFSET(Import.PLQ,$A18-1,Q$15-1,1,1)),(1-[1]PLE!$AA$28)*OFFSET(Import.PLQ,$A18-1,Q$15-1,1,1)))) -> 4507.4617 | R18: =IF(R$13="",0,CHOOSE(Detalhamento.OpçãoServiços,OFFSET(Import.PLQ,$A18-1,R$15-1,1,1),IF($E18<>1,IF(ISNUMBER(INDEX(Import.PLE,Detalhamento!$E18,Detalhamento!R$15)),IF(INDEX(Import.PLE,Detalhamento!$E18,Detalhamento!R$15)<=mediçao,OFFSET(Import.PLQ,$A18-1,R$15-1,1,1),0),0),[1]PLE!$AA$28*OFFSET(Import.PLQ,$A18-1,R$15-1,1,1)),IF($E18<>1,IF(ISNUMBER(INDEX(Import.PLE,Detalhamento!$E18,Detalhamento!R$15)),IF(INDEX(Import.PLE,Detalhamento!$E18,Detalhamento!R$15)<=mediçao,0,OFFSET(Import.PLQ,$A18-1,R$15-1,1,1)),OFFSET(Import.PLQ,$A18-1,R$15-1,1,1)),(1-[1]PLE!$AA$28)*OFFSET(Import.PLQ,$A18-1,R$15-1,1,1)))) -> 0 | S18: =IF(S$13="",0,CHOOSE(Detalhamento.OpçãoServiços,OFFSET(Import.PLQ,$A18-1,S$15-1,1,1),IF($E18<>1,IF(ISNUMBER(INDEX(Import.PLE,Detalhamento!$E18,Detalhamento!S$15)),IF(INDEX(Import.PLE,Detalhamento!$E18,Detalhamento!S$15)<=mediçao,OFFSET(Import.PLQ,$A18-1,S$15-1,1,1),0),0),[1]PLE!$AA$28*OFFSET(Import.PLQ,$A18-1,S$15-1,1,1)),IF($E18<>1,IF(ISNUMBER(INDEX(Import.PLE,Detalhamento!$E18,Detalhamento!S$15)),IF(INDEX(Import.PLE,Detalhamento!$E18,Detalhamento!S$15)<=mediçao,0,OFFSET(Import.PLQ,$A18-1,S$15-1,1,1)),OFFSET(Import.PLQ,$A18-1,S$15-1,1,1)),(1-[1]PLE!$AA$28)*OFFSET(Import.PLQ,$A18-1,S$15-1,1,1)))) -> 0 | ... BI18: =IF(BI$13="",0,CHOOSE(Detalhamento.OpçãoServiços,OFFSET(Import.PLQ,$A18-1,BI$15-1,1,1),IF($E18<>1,IF(ISNUMBER(INDEX(Import.PLE,Detalhamento!$E18,Detalhamento!BI$15)),IF(INDEX(Import.PLE,Detalhamento!$E18,Detalhamento!BI$15)<=mediçao,OFFSET(Import.PLQ,$A18-1,BI$15-1,1,1),0),0),[1]PLE!$AA$28*OFFSET(Import.PLQ,$A18-1,BI$15-1,1,1)),IF($E18<>1,IF(ISNUMBER(INDEX(Import.PLE,Detalhamento!$E18,Detalhamento!BI$15)),IF(INDEX(Import.PLE,Detalhamento!$E18,Detalhamento!BI$15)<=mediçao,0,OFFSET(Import.PLQ,$A18-1,BI$15-1,1,1)),OFFSET(Import.PLQ,$A18-1,BI$15-1,1,1)),(1-[1]PLE!$AA$28)*OFFSET(Import.PLQ,$A18-1,BI$15-1,1,1)))) -> 0
A19: 53 | B19: =OFFSET(LIorçamento,$A19-1,B$16,1,1) -> Serviço | E19: =OFFSET(LIorçamento,$A19-1,E$16,1,1) -> 1 | F19: =CHOOSE($B$8,IF(OR(Nível="Serviço",Nível="Evento"),E19*10^4+IF(Nível<>"Evento",A19,0),0),IF(Nível<>"Evento",A19,0)) -> 10053 | G19: =OFFSET(LIorçamento,$A19-1,G$16,1,1) -> 8.1 | H19: =OFFSET(LIorçamento,$A19-1,H$16,1,1) -> Administração Local (O pagamento deste item será de acordo com a execução da obra) | I19: =IF(OR(Nível="Serviço",Nível="evento"),OFFSET(LIorçamento,$A19-1,I$16,1,1),"") -> UND. | J19: =IF(OR(Nível="Serviço",Nível="evento"),SUM(L19:BI19),"") -> 6 | L19: =IF(L$13="",0,CHOOSE(Detalhamento.OpçãoServiços,OFFSET(Import.PLQ,$A19-1,L$15-1,1,1),IF($E19<>1,IF(ISNUMBER(INDEX(Import.PLE,Detalhamento!$E19,Detalhamento!L$15)),IF(INDEX(Import.PLE,Detalhamento!$E19,Detalhamento!L$15)<=mediçao,OFFSET(Import.PLQ,$A19-1,L$15-1,1,1),0),0),[1]PLE!$AA$28*OFFSET(Import.PLQ,$A19-1,L$15-1,1,1)),IF($E19<>1,IF(ISNUMBER(INDEX(Import.PLE,Detalhamento!$E19,Detalhamento!L$15)),IF(INDEX(Import.PLE,Detalhamento!$E19,Detalhamento!L$15)<=mediçao,0,OFFSET(Import.PLQ,$A19-1,L$15-1,1,1)),OFFSET(Import.PLQ,$A19-1,L$15-1,1,1)),(1-[1]PLE!$AA$28)*OFFSET(Import.PLQ,$A19-1,L$15-1,1,1)))) -> 1 | M19: =IF(M$13="",0,CHOOSE(Detalhamento.OpçãoServiços,OFFSET(Import.PLQ,$A19-1,M$15-1,1,1),IF($E19<>1,IF(ISNUMBER(INDEX(Import.PLE,Detalhamento!$E19,Detalhamento!M$15)),IF(INDEX(Import.PLE,Detalhamento!$E19,Detalhamento!M$15)<=mediçao,OFFSET(Import.PLQ,$A19-1,M$15-1,1,1),0),0),[1]PLE!$AA$28*OFFSET(Import.PLQ,$A19-1,M$15-1,1,1)),IF($E19<>1,IF(ISNUMBER(INDEX(Import.PLE,Detalhamento!$E19,Detalhamento!M$15)),IF(INDEX(Import.PLE,Detalhamento!$E19,Detalhamento!M$15)<=mediçao,0,OFFSET(Import.PLQ,$A19-1,M$15-1,1,1)),OFFSET(Import.PLQ,$A19-1,M$15-1,1,1)),(1-[1]PLE!$AA$28)*OFFSET(Import.PLQ,$A19-1,M$15-1,1,1)))) -> 1 | N19: =IF(N$13="",0,CHOOSE(Detalhamento.OpçãoServiços,OFFSET(Import.PLQ,$A19-1,N$15-1,1,1),IF($E19<>1,IF(ISNUMBER(INDEX(Import.PLE,Detalhamento!$E19,Detalhamento!N$15)),IF(INDEX(Import.PLE,Detalhamento!$E19,Detalhamento!N$15)<=mediçao,OFFSET(Import.PLQ,$A19-1,N$15-1,1,1),0),0),[1]PLE!$AA$28*OFFSET(Import.PLQ,$A19-1,N$15-1,1,1)),IF($E19<>1,IF(ISNUMBER(INDEX(Import.PLE,Detalhamento!$E19,Detalhamento!N$15)),IF(INDEX(Import.PLE,Detalhamento!$E19,Detalhamento!N$15)<=mediçao,0,OFFSET(Import.PLQ,$A19-1,N$15-1,1,1)),OFFSET(Import.PLQ,$A19-1,N$15-1,1,1)),(1-[1]PLE!$AA$28)*OFFSET(Import.PLQ,$A19-1,N$15-1,1,1)))) -> 1 | O19: =IF(O$13="",0,CHOOSE(Detalhamento.OpçãoServiços,OFFSET(Import.PLQ,$A19-1,O$15-1,1,1),IF($E19<>1,IF(ISNUMBER(INDEX(Import.PLE,Detalhamento!$E19,Detalhamento!O$15)),IF(INDEX(Import.PLE,Detalhamento!$E19,Detalhamento!O$15)<=mediçao,OFFSET(Import.PLQ,$A19-1,O$15-1,1,1),0),0),[1]PLE!$AA$28*OFFSET(Import.PLQ,$A19-1,O$15-1,1,1)),IF($E19<>1,IF(ISNUMBER(INDEX(Import.PLE,Detalhamento!$E19,Detalhamento!O$15)),IF(INDEX(Import.PLE,Detalhamento!$E19,Detalhamento!O$15)<=mediçao,0,OFFSET(Import.PLQ,$A19-1,O$15-1,1,1)),OFFSET(Import.PLQ,$A19-1,O$15-1,1,1)),(1-[1]PLE!$AA$28)*OFFSET(Import.PLQ,$A19-1,O$15-1,1,1)))) -> 1 | P19: =IF(P$13="",0,CHOOSE(Detalhamento.OpçãoServiços,OFFSET(Import.PLQ,$A19-1,P$15-1,1,1),IF($E19<>1,IF(ISNUMBER(INDEX(Import.PLE,Detalhamento!$E19,Detalhamento!P$15)),IF(INDEX(Import.PLE,Detalhamento!$E19,Detalhamento!P$15)<=mediçao,OFFSET(Import.PLQ,$A19-1,P$15-1,1,1),0),0),[1]PLE!$AA$28*OFFSET(Import.PLQ,$A19-1,P$15-1,1,1)),IF($E19<>1,IF(ISNUMBER(INDEX(Import.PLE,Detalhamento!$E19,Detalhamento!P$15)),IF(INDEX(Import.PLE,Detalhamento!$E19,Detalhamento!P$15)<=mediçao,0,OFFSET(Import.PLQ,$A19-1,P$15-1,1,1)),OFFSET(Import.PLQ,$A19-1,P$15-1,1,1)),(1-[1]PLE!$AA$28)*OFFSET(Import.PLQ,$A19-1,P$15-1,1,1)))) -> 1 | Q19: =IF(Q$13="",0,CHOOSE(Detalhamento.OpçãoServiços,OFFSET(Import.PLQ,$A19-1,Q$15-1,1,1),IF($E19<>1,IF(ISNUMBER(INDEX(Import.PLE,Detalhamento!$E19,Detalhamento!Q$15)),IF(INDEX(Import.PLE,Detalhamento!$E19,Detalhamento!Q$15)<=mediçao,OFFSET(Import.PLQ,$A19-1,Q$15-1,1,1),0),0),[1]PLE!$AA$28*OFFSET(Import.PLQ,$A19-1,Q$15-1,1,1)),IF($E19<>1,IF(ISNUMBER(INDEX(Import.PLE,Detalhamento!$E19,Detalhamento!Q$15)),IF(INDEX(Import.PLE,Detalhamento!$E19,Detalhamento!Q$15)<=mediçao,0,OFFSET(Import.PLQ,$A19-1,Q$15-1,1,1)),OFFSET(Import.PLQ,$A19-1,Q$15-1,1,1)),(1-[1]PLE!$AA$28)*OFFSET(Import.PLQ,$A19-1,Q$15-1,1,1)))) -> 1 | R19: =IF(R$13="",0,CHOOSE(Detalhamento.OpçãoServiços,OFFSET(Import.PLQ,$A19-1,R$15-1,1,1),IF($E19<>1,IF(ISNUMBER(INDEX(Import.PLE,Detalhamento!$E19,Detalhamento!R$15)),IF(INDEX(Import.PLE,Detalhamento!$E19,Detalhamento!R$15)<=mediçao,OFFSET(Import.PLQ,$A19-1,R$15-1,1,1),0),0),[1]PLE!$AA$28*OFFSET(Import.PLQ,$A19-1,R$15-1,1,1)),IF($E19<>1,IF(ISNUMBER(INDEX(Import.PLE,Detalhamento!$E19,Detalhamento!R$15)),IF(INDEX(Import.PLE,Detalhamento!$E19,Detalhamento!R$15)<=mediçao,0,OFFSET(Import.PLQ,$A19-1,R$15-1,1,1)),OFFSET(Import.PLQ,$A19-1,R$15-1,1,1)),(1-[1]PLE!$AA$28)*OFFSET(Import.PLQ,$A19-1,R$15-1,1,1)))) -> 0 | S19: =IF(S$13="",0,CHOOSE(Detalhamento.OpçãoServiços,OFFSET(Import.PLQ,$A19-1,S$15-1,1,1),IF($E19<>1,IF(ISNUMBER(INDEX(Import.PLE,Detalhamento!$E19,Detalhamento!S$15)),IF(INDEX(Import.PLE,Detalhamento!$E19,Detalhamento!S$15)<=mediçao,OFFSET(Import.PLQ,$A19-1,S$15-1,1,1),0),0),[1]PLE!$AA$28*OFFSET(Import.PLQ,$A19-1,S$15-1,1,1)),IF($E19<>1,IF(ISNUMBER(INDEX(Import.PLE,Detalhamento!$E19,Detalhamento!S$15)),IF(INDEX(Import.PLE,Detalhamento!$E19,Detalhamento!S$15)<=mediçao,0,OFFSET(Import.PLQ,$A19-1,S$15-1,1,1)),OFFSET(Import.PLQ,$A19-1,S$15-1,1,1)),(1-[1]PLE!$AA$28)*OFFSET(Import.PLQ,$A19-1,S$15-1,1,1)))) -> 0 | ... BI19: =IF(BI$13="",0,CHOOSE(Detalhamento.OpçãoServiços,OFFSET(Import.PLQ,$A19-1,BI$15-1,1,1),IF($E19<>1,IF(ISNUMBER(INDEX(Import.PLE,Detalhamento!$E19,Detalhamento!BI$15)),IF(INDEX(Import.PLE,Detalhamento!$E19,Detalhamento!BI$15)<=mediçao,OFFSET(Import.PLQ,$A19-1,BI$15-1,1,1),0),0),[1]PLE!$AA$28*OFFSET(Import.PLQ,$A19-1,BI$15-1,1,1)),IF($E19<>1,IF(ISNUMBER(INDEX(Import.PLE,Detalhamento!$E19,Detalhamento!BI$15)),IF(INDEX(Import.PLE,Detalhamento!$E19,Detalhamento!BI$15)<=mediçao,0,OFFSET(Import.PLQ,$A19-1,BI$15-1,1,1)),OFFSET(Import.PLQ,$A19-1,BI$15-1,1,1)),(1-[1]PLE!$AA$28)*OFFSET(Import.PLQ,$A19-1,BI$15-1,1,1)))) -> 0
A20: 55 | B20: =OFFSET(LIorçamento,$A20-1,B$16,1,1) -> Evento | E20: =OFFSET(LIorçamento,$A20-1,E$16,1,1) -> 2 | F20: =CHOOSE($B$8,IF(OR(Nível="Serviço",Nível="Evento"),E20*10^4+IF(Nível<>"Evento",A20,0),0),IF(Nível<>"Evento",A20,0)) -> 20000 | G20: =OFFSET(LIorçamento,$A20-1,G$16,1,1) -> Evento | H20: =OFFSET(LIorçamento,$A20-1,H$16,1,1) -> INSTALAÇÃO DO CANTEIRO DE OBRAS | I20: =IF(OR(Nível="Serviço",Nível="evento"),OFFSET(LIorçamento,$A20-1,I$16,1,1),"") -> R$ | J20: =IF(OR(Nível="Serviço",Nível="evento"),SUM(L20:BI20),"") -> 18434.794 | L20: =IF(L$13="",0,CHOOSE(Detalhamento.OpçãoServiços,OFFSET(Import.PLQ,$A20-1,L$15-1,1,1),IF($E20<>1,IF(ISNUMBER(INDEX(Import.PLE,Detalhamento!$E20,Detalhamento!L$15)),IF(INDEX(Import.PLE,Detalhamento!$E20,Detalhamento!L$15)<=mediçao,OFFSET(Import.PLQ,$A20-1,L$15-1,1,1),0),0),[1]PLE!$AA$28*OFFSET(Import.PLQ,$A20-1,L$15-1,1,1)),IF($E20<>1,IF(ISNUMBER(INDEX(Import.PLE,Detalhamento!$E20,Detalhamento!L$15)),IF(INDEX(Import.PLE,Detalhamento!$E20,Detalhamento!L$15)<=mediçao,0,OFFSET(Import.PLQ,$A20-1,L$15-1,1,1)),OFFSET(Import.PLQ,$A20-1,L$15-1,1,1)),(1-[1]PLE!$AA$28)*OFFSET(Import.PLQ,$A20-1,L$15-1,1,1)))) -> 0 | M20: =IF(M$13="",0,CHOOSE(Detalhamento.OpçãoServiços,OFFSET(Import.PLQ,$A20-1,M$15-1,1,1),IF($E20<>1,IF(ISNUMBER(INDEX(Import.PLE,Detalhamento!$E20,Detalhamento!M$15)),IF(INDEX(Import.PLE,Detalhamento!$E20,Detalhamento!M$15)<=mediçao,OFFSET(Import.PLQ,$A20-1,M$15-1,1,1),0),0),[1]PLE!$AA$28*OFFSET(Import.PLQ,$A20-1,M$15-1,1,1)),IF($E20<>1,IF(ISNUMBER(INDEX(Import.PLE,Detalhamento!$E20,Detalhamento!M$15)),IF(INDEX(Import.PLE,Detalhamento!$E20,Detalhamento!M$15)<=mediçao,0,OFFSET(Import.PLQ,$A20-1,M$15-1,1,1)),OFFSET(Import.PLQ,$A20-1,M$15-1,1,1)),(1-[1]PLE!$AA$28)*OFFSET(Import.PLQ,$A20-1,M$15-1,1,1)))) -> 9217.397 | N20: =IF(N$13="",0,CHOOSE(Detalhamento.OpçãoServiços,OFFSET(Import.PLQ,$A20-1,N$15-1,1,1),IF($E20<>1,IF(ISNUMBER(INDEX(Import.PLE,Detalhamento!$E20,Detalhamento!N$15)),IF(INDEX(Import.PLE,Detalhamento!$E20,Detalhamento!N$15)<=mediçao,OFFSET(Import.PLQ,$A20-1,N$15-1,1,1),0),0),[1]PLE!$AA$28*OFFSET(Import.PLQ,$A20-1,N$15-1,1,1)),IF($E20<>1,IF(ISNUMBER(INDEX(Import.PLE,Detalhamento!$E20,Detalhamento!N$15)),IF(INDEX(Import.PLE,Detalhamento!$E20,Detalhamento!N$15)<=mediçao,0,OFFSET(Import.PLQ,$A20-1,N$15-1,1,1)),OFFSET(Import.PLQ,$A20-1,N$15-1,1,1)),(1-[1]PLE!$AA$28)*OFFSET(Import.PLQ,$A20-1,N$15-1,1,1)))) -> 0 | O20: =IF(O$13="",0,CHOOSE(Detalhamento.OpçãoServiços,OFFSET(Import.PLQ,$A20-1,O$15-1,1,1),IF($E20<>1,IF(ISNUMBER(INDEX(Import.PLE,Detalhamento!$E20,Detalhamento!O$15)),IF(INDEX(Import.PLE,Detalhamento!$E20,Detalhamento!O$15)<=mediçao,OFFSET(Import.PLQ,$A20-1,O$15-1,1,1),0),0),[1]PLE!$AA$28*OFFSET(Import.PLQ,$A20-1,O$15-1,1,1)),IF($E20<>1,IF(ISNUMBER(INDEX(Import.PLE,Detalhamento!$E20,Detalhamento!O$15)),IF(INDEX(Import.PLE,Detalhamento!$E20,Detalhamento!O$15)<=mediçao,0,OFFSET(Import.PLQ,$A20-1,O$15-1,1,1)),OFFSET(Import.PLQ,$A20-1,O$15-1,1,1)),(1-[1]PLE!$AA$28)*OFFSET(Import.PLQ,$A20-1,O$15-1,1,1)))) -> 9217.397 | P20: =IF(P$13="",0,CHOOSE(Detalhamento.OpçãoServiços,OFFSET(Import.PLQ,$A20-1,P$15-1,1,1),IF($E20<>1,IF(ISNUMBER(INDEX(Import.PLE,Detalhamento!$E20,Detalhamento!P$15)),IF(INDEX(Import.PLE,Detalhamento!$E20,Detalhamento!P$15)<=mediçao,OFFSET(Import.PLQ,$A20-1,P$15-1,1,1),0),0),[1]PLE!$AA$28*OFFSET(Import.PLQ,$A20-1,P$15-1,1,1)),IF($E20<>1,IF(ISNUMBER(INDEX(Import.PLE,Detalhamento!$E20,Detalhamento!P$15)),IF(INDEX(Import.PLE,Detalhamento!$E20,Detalhamento!P$15)<=mediçao,0,OFFSET(Import.PLQ,$A20-1,P$15-1,1,1)),OFFSET(Import.PLQ,$A20-1,P$15-1,1,1)),(1-[1]PLE!$AA$28)*OFFSET(Import.PLQ,$A20-1,P$15-1,1,1)))) -> 0 | Q20: =IF(Q$13="",0,CHOOSE(Detalhamento.OpçãoServiços,OFFSET(Import.PLQ,$A20-1,Q$15-1,1,1),IF($E20<>1,IF(ISNUMBER(INDEX(Import.PLE,Detalhamento!$E20,Detalhamento!Q$15)),IF(INDEX(Import.PLE,Detalhamento!$E20,Detalhamento!Q$15)<=mediçao,OFFSET(Import.PLQ,$A20-1,Q$15-1,1,1),0),0),[1]PLE!$AA$28*OFFSET(Import.PLQ,$A20-1,Q$15-1,1,1)),IF($E20<>1,IF(ISNUMBER(INDEX(Import.PLE,Detalhamento!$E20,Detalhamento!Q$15)),IF(INDEX(Import.PLE,Detalhamento!$E20,Detalhamento!Q$15)<=mediçao,0,OFFSET(Import.PLQ,$A20-1,Q$15-1,1,1)),OFFSET(Import.PLQ,$A20-1,Q$15-1,1,1)),(1-[1]PLE!$AA$28)*OFFSET(Import.PLQ,$A20-1,Q$15-1,1,1)))) -> 0 | R20: =IF(R$13="",0,CHOOSE(Detalhamento.OpçãoServiços,OFFSET(Import.PLQ,$A20-1,R$15-1,1,1),IF($E20<>1,IF(ISNUMBER(INDEX(Import.PLE,Detalhamento!$E20,Detalhamento!R$15)),IF(INDEX(Import.PLE,Detalhamento!$E20,Detalhamento!R$15)<=mediçao,OFFSET(Import.PLQ,$A20-1,R$15-1,1,1),0),0),[1]PLE!$AA$28*OFFSET(Import.PLQ,$A20-1,R$15-1,1,1)),IF($E20<>1,IF(ISNUMBER(INDEX(Import.PLE,Detalhamento!$E20,Detalhamento!R$15)),IF(INDEX(Import.PLE,Detalhamento!$E20,Detalhamento!R$15)<=mediçao,0,OFFSET(Import.PLQ,$A20-1,R$15-1,1,1)),OFFSET(Import.PLQ,$A20-1,R$15-1,1,1)),(1-[1]PLE!$AA$28)*OFFSET(Import.PLQ,$A20-1,R$15-1,1,1)))) -> 0 | S20: =IF(S$13="",0,CHOOSE(Detalhamento.OpçãoServiços,OFFSET(Import.PLQ,$A20-1,S$15-1,1,1),IF($E20<>1,IF(ISNUMBER(INDEX(Import.PLE,Detalhamento!$E20,Detalhamento!S$15)),IF(INDEX(Import.PLE,Detalhamento!$E20,Detalhamento!S$15)<=mediçao,OFFSET(Import.PLQ,$A20-1,S$15-1,1,1),0),0),[1]PLE!$AA$28*OFFSET(Import.PLQ,$A20-1,S$15-1,1,1)),IF($E20<>1,IF(ISNUMBER(INDEX(Import.PLE,Detalhamento!$E20,Detalhamento!S$15)),IF(INDEX(Import.PLE,Detalhamento!$E20,Detalhamento!S$15)<=mediçao,0,OFFSET(Import.PLQ,$A20-1,S$15-1,1,1)),OFFSET(Import.PLQ,$A20-1,S$15-1,1,1)),(1-[1]PLE!$AA$28)*OFFSET(Import.PLQ,$A20-1,S$15-1,1,1)))) -> 0 | ... BI20: =IF(BI$13="",0,CHOOSE(Detalhamento.OpçãoServiços,OFFSET(Import.PLQ,$A20-1,BI$15-1,1,1),IF($E20<>1,IF(ISNUMBER(INDEX(Import.PLE,Detalhamento!$E20,Detalhamento!BI$15)),IF(INDEX(Import.PLE,Detalhamento!$E20,Detalhamento!BI$15)<=mediçao,OFFSET(Import.PLQ,$A20-1,BI$15-1,1,1),0),0),[1]PLE!$AA$28*OFFSET(Import.PLQ,$A20-1,BI$15-1,1,1)),IF($E20<>1,IF(ISNUMBER(INDEX(Import.PLE,Detalhamento!$E20,Detalhamento!BI$15)),IF(INDEX(Import.PLE,Detalhamento!$E20,Detalhamento!BI$15)<=mediçao,0,OFFSET(Import.PLQ,$A20-1,BI$15-1,1,1)),OFFSET(Import.PLQ,$A20-1,BI$15-1,1,1)),(1-[1]PLE!$AA$28)*OFFSET(Import.PLQ,$A20-1,BI$15-1,1,1)))) -> 0
A21: 5 | B21: =OFFSET(LIorçamento,$A21-1,B$16,1,1) -> Nível | E21: =OFFSET(LIorçamento,$A21-1,E$16,1,1) | F21: =CHOOSE($B$8,IF(OR(Nível="Serviço",Nível="Evento"),E21*10^4+IF(Nível<>"Evento",A21,0),0),IF(Nível<>"Evento",A21,0)) -> 0 | G21: =OFFSET(LIorçamento,$A21-1,G$16,1,1) -> 2.0 | H21: =OFFSET(LIorçamento,$A21-1,H$16,1,1) -> SERVIÇOS RODOVIÁRIOS - SINALIZAÇÃO PARA SEGURANÇA NA EXECUÇÃO DA OBRA | I21: =IF(OR(Nível="Serviço",Nível="evento"),OFFSET(LIorçamento,$A21-1,I$16,1,1),"") | J21: =IF(OR(Nível="Serviço",Nível="evento"),SUM(L21:BI21),"") | L21: =IF(L$13="",0,CHOOSE(Detalhamento.OpçãoServiços,OFFSET(Import.PLQ,$A21-1,L$15-1,1,1),IF($E21<>1,IF(ISNUMBER(INDEX(Import.PLE,Detalhamento!$E21,Detalhamento!L$15)),IF(INDEX(Import.PLE,Detalhamento!$E21,Detalhamento!L$15)<=mediçao,OFFSET(Import.PLQ,$A21-1,L$15-1,1,1),0),0),[1]PLE!$AA$28*OFFSET(Import.PLQ,$A21-1,L$15-1,1,1)),IF($E21<>1,IF(ISNUMBER(INDEX(Import.PLE,Detalhamento!$E21,Detalhamento!L$15)),IF(INDEX(Import.PLE,Detalhamento!$E21,Detalhamento!L$15)<=mediçao,0,OFFSET(Import.PLQ,$A21-1,L$15-1,1,1)),OFFSET(Import.PLQ,$A21-1,L$15-1,1,1)),(1-[1]PLE!$AA$28)*OFFSET(Import.PLQ,$A21-1,L$15-1,1,1)))) -> 0 | M21: =IF(M$13="",0,CHOOSE(Detalhamento.OpçãoServiços,OFFSET(Import.PLQ,$A21-1,M$15-1,1,1),IF($E21<>1,IF(ISNUMBER(INDEX(Import.PLE,Detalhamento!$E21,Detalhamento!M$15)),IF(INDEX(Import.PLE,Detalhamento!$E21,Detalhamento!M$15)<=mediçao,OFFSET(Import.PLQ,$A21-1,M$15-1,1,1),0),0),[1]PLE!$AA$28*OFFSET(Import.PLQ,$A21-1,M$15-1,1,1)),IF($E21<>1,IF(ISNUMBER(INDEX(Import.PLE,Detalhamento!$E21,Detalhamento!M$15)),IF(INDEX(Import.PLE,Detalhamento!$E21,Detalhamento!M$15)<=mediçao,0,OFFSET(Import.PLQ,$A21-1,M$15-1,1,1)),OFFSET(Import.PLQ,$A21-1,M$15-1,1,1)),(1-[1]PLE!$AA$28)*OFFSET(Import.PLQ,$A21-1,M$15-1,1,1)))) -> 0 | N21: =IF(N$13="",0,CHOOSE(Detalhamento.OpçãoServiços,OFFSET(Import.PLQ,$A21-1,N$15-1,1,1),IF($E21<>1,IF(ISNUMBER(INDEX(Import.PLE,Detalhamento!$E21,Detalhamento!N$15)),IF(INDEX(Import.PLE,Detalhamento!$E21,Detalhamento!N$15)<=mediçao,OFFSET(Import.PLQ,$A21-1,N$15-1,1,1),0),0),[1]PLE!$AA$28*OFFSET(Import.PLQ,$A21-1,N$15-1,1,1)),IF($E21<>1,IF(ISNUMBER(INDEX(Import.PLE,Detalhamento!$E21,Detalhamento!N$15)),IF(INDEX(Import.PLE,Detalhamento!$E21,Detalhamento!N$15)<=mediçao,0,OFFSET(Import.PLQ,$A21-1,N$15-1,1,1)),OFFSET(Import.PLQ,$A21-1,N$15-1,1,1)),(1-[1]PLE!$AA$28)*OFFSET(Import.PLQ,$A21-1,N$15-1,1,1)))) -> 0 | O21: =IF(O$13="",0,CHOOSE(Detalhamento.OpçãoServiços,OFFSET(Import.PLQ,$A21-1,O$15-1,1,1),IF($E21<>1,IF(ISNUMBER(INDEX(Import.PLE,Detalhamento!$E21,Detalhamento!O$15)),IF(INDEX(Import.PLE,Detalhamento!$E21,Detalhamento!O$15)<=mediçao,OFFSET(Import.PLQ,$A21-1,O$15-1,1,1),0),0),[1]PLE!$AA$28*OFFSET(Import.PLQ,$A21-1,O$15-1,1,1)),IF($E21<>1,IF(ISNUMBER(INDEX(Import.PLE,Detalhamento!$E21,Detalhamento!O$15)),IF(INDEX(Import.PLE,Detalhamento!$E21,Detalhamento!O$15)<=mediçao,0,OFFSET(Import.PLQ,$A21-1,O$15-1,1,1)),OFFSET(Import.PLQ,$A21-1,O$15-1,1,1)),(1-[1]PLE!$AA$28)*OFFSET(Import.PLQ,$A21-1,O$15-1,1,1)))) -> 0 | P21: =IF(P$13="",0,CHOOSE(Detalhamento.OpçãoServiços,OFFSET(Import.PLQ,$A21-1,P$15-1,1,1),IF($E21<>1,IF(ISNUMBER(INDEX(Import.PLE,Detalhamento!$E21,Detalhamento!P$15)),IF(INDEX(Import.PLE,Detalhamento!$E21,Detalhamento!P$15)<=mediçao,OFFSET(Import.PLQ,$A21-1,P$15-1,1,1),0),0),[1]PLE!$AA$28*OFFSET(Import.PLQ,$A21-1,P$15-1,1,1)),IF($E21<>1,IF(ISNUMBER(INDEX(Import.PLE,Detalhamento!$E21,Detalhamento!P$15)),IF(INDEX(Import.PLE,Detalhamento!$E21,Detalhamento!P$15)<=mediçao,0,OFFSET(Import.PLQ,$A21-1,P$15-1,1,1)),OFFSET(Import.PLQ,$A21-1,P$15-1,1,1)),(1-[1]PLE!$AA$28)*OFFSET(Import.PLQ,$A21-1,P$15-1,1,1)))) -> 0 | Q21: =IF(Q$13="",0,CHOOSE(Detalhamento.OpçãoServiços,OFFSET(Import.PLQ,$A21-1,Q$15-1,1,1),IF($E21<>1,IF(ISNUMBER(INDEX(Import.PLE,Detalhamento!$E21,Detalhamento!Q$15)),IF(INDEX(Import.PLE,Detalhamento!$E21,Detalhamento!Q$15)<=mediçao,OFFSET(Import.PLQ,$A21-1,Q$15-1,1,1),0),0),[1]PLE!$AA$28*OFFSET(Import.PLQ,$A21-1,Q$15-1,1,1)),IF($E21<>1,IF(ISNUMBER(INDEX(Import.PLE,Detalhamento!$E21,Detalhamento!Q$15)),IF(INDEX(Import.PLE,Detalhamento!$E21,Detalhamento!Q$15)<=mediçao,0,OFFSET(Import.PLQ,$A21-1,Q$15-1,1,1)),OFFSET(Import.PLQ,$A21-1,Q$15-1,1,1)),(1-[1]PLE!$AA$28)*OFFSET(Import.PLQ,$A21-1,Q$15-1,1,1)))) -> 0 | R21: =IF(R$13="",0,CHOOSE(Detalhamento.OpçãoServiços,OFFSET(Import.PLQ,$A21-1,R$15-1,1,1),IF($E21<>1,IF(ISNUMBER(INDEX(Import.PLE,Detalhamento!$E21,Detalhamento!R$15)),IF(INDEX(Import.PLE,Detalhamento!$E21,Detalhamento!R$15)<=mediçao,OFFSET(Import.PLQ,$A21-1,R$15-1,1,1),0),0),[1]PLE!$AA$28*OFFSET(Import.PLQ,$A21-1,R$15-1,1,1)),IF($E21<>1,IF(ISNUMBER(INDEX(Import.PLE,Detalhamento!$E21,Detalhamento!R$15)),IF(INDEX(Import.PLE,Detalhamento!$E21,Detalhamento!R$15)<=mediçao,0,OFFSET(Import.PLQ,$A21-1,R$15-1,1,1)),OFFSET(Import.PLQ,$A21-1,R$15-1,1,1)),(1-[1]PLE!$AA$28)*OFFSET(Import.PLQ,$A21-1,R$15-1,1,1)))) -> 0 | S21: =IF(S$13="",0,CHOOSE(Detalhamento.OpçãoServiços,OFFSET(Import.PLQ,$A21-1,S$15-1,1,1),IF($E21<>1,IF(ISNUMBER(INDEX(Import.PLE,Detalhamento!$E21,Detalhamento!S$15)),IF(INDEX(Import.PLE,Detalhamento!$E21,Detalhamento!S$15)<=mediçao,OFFSET(Import.PLQ,$A21-1,S$15-1,1,1),0),0),[1]PLE!$AA$28*OFFSET(Import.PLQ,$A21-1,S$15-1,1,1)),IF($E21<>1,IF(ISNUMBER(INDEX(Import.PLE,Detalhamento!$E21,Detalhamento!S$15)),IF(INDEX(Import.PLE,Detalhamento!$E21,Detalhamento!S$15)<=mediçao,0,OFFSET(Import.PLQ,$A21-1,S$15-1,1,1)),OFFSET(Import.PLQ,$A21-1,S$15-1,1,1)),(1-[1]PLE!$AA$28)*OFFSET(Import.PLQ,$A21-1,S$15-1,1,1)))) -> 0 | ... BI21: =IF(BI$13="",0,CHOOSE(Detalhamento.OpçãoServiços,OFFSET(Import.PLQ,$A21-1,BI$15-1,1,1),IF($E21<>1,IF(ISNUMBER(INDEX(Import.PLE,Detalhamento!$E21,Detalhamento!BI$15)),IF(INDEX(Import.PLE,Detalhamento!$E21,Detalhamento!BI$15)<=mediçao,OFFSET(Import.PLQ,$A21-1,BI$15-1,1,1),0),0),[1]PLE!$AA$28*OFFSET(Import.PLQ,$A21-1,BI$15-1,1,1)),IF($E21<>1,IF(ISNUMBER(INDEX(Import.PLE,Detalhamento!$E21,Detalhamento!BI$15)),IF(INDEX(Import.PLE,Detalhamento!$E21,Detalhamento!BI$15)<=mediçao,0,OFFSET(Import.PLQ,$A21-1,BI$15-1,1,1)),OFFSET(Import.PLQ,$A21-1,BI$15-1,1,1)),(1-[1]PLE!$AA$28)*OFFSET(Import.PLQ,$A21-1,BI$15-1,1,1)))) -> 0
A22: 2 | B22: =OFFSET(LIorçamento,$A22-1,B$16,1,1) -> Serviço | E22: =OFFSET(LIorçamento,$A22-1,E$16,1,1) -> 2 | F22: =CHOOSE($B$8,IF(OR(Nível="Serviço",Nível="Evento"),E22*10^4+IF(Nível<>"Evento",A22,0),0),IF(Nível<>"Evento",A22,0)) -> 20002 | G22: =OFFSET(LIorçamento,$A22-1,G$16,1,1) -> 1.1 | H22: =OFFSET(LIorçamento,$A22-1,H$16,1,1) -> PLACA DE OBRA EM CHAPA DE ACO GALVANIZADO | I22: =IF(OR(Nível="Serviço",Nível="evento"),OFFSET(LIorçamento,$A22-1,I$16,1,1),"") -> M² | J22: =IF(OR(Nível="Serviço",Nível="evento"),SUM(L22:BI22),"") -> 5 | L22: =IF(L$13="",0,CHOOSE(Detalhamento.OpçãoServiços,OFFSET(Import.PLQ,$A22-1,L$15-1,1,1),IF($E22<>1,IF(ISNUMBER(INDEX(Import.PLE,Detalhamento!$E22,Detalhamento!L$15)),IF(INDEX(Import.PLE,Detalhamento!$E22,Detalhamento!L$15)<=mediçao,OFFSET(Import.PLQ,$A22-1,L$15-1,1,1),0),0),[1]PLE!$AA$28*OFFSET(Import.PLQ,$A22-1,L$15-1,1,1)),IF($E22<>1,IF(ISNUMBER(INDEX(Import.PLE,Detalhamento!$E22,Detalhamento!L$15)),IF(INDEX(Import.PLE,Detalhamento!$E22,Detalhamento!L$15)<=mediçao,0,OFFSET(Import.PLQ,$A22-1,L$15-1,1,1)),OFFSET(Import.PLQ,$A22-1,L$15-1,1,1)),(1-[1]PLE!$AA$28)*OFFSET(Import.PLQ,$A22-1,L$15-1,1,1)))) -> 0 | M22: =IF(M$13="",0,CHOOSE(Detalhamento.OpçãoServiços,OFFSET(Import.PLQ,$A22-1,M$15-1,1,1),IF($E22<>1,IF(ISNUMBER(INDEX(Import.PLE,Detalhamento!$E22,Detalhamento!M$15)),IF(INDEX(Import.PLE,Detalhamento!$E22,Detalhamento!M$15)<=mediçao,OFFSET(Import.PLQ,$A22-1,M$15-1,1,1),0),0),[1]PLE!$AA$28*OFFSET(Import.PLQ,$A22-1,M$15-1,1,1)),IF($E22<>1,IF(ISNUMBER(INDEX(Import.PLE,Detalhamento!$E22,Detalhamento!M$15)),IF(INDEX(Import.PLE,Detalhamento!$E22,Detalhamento!M$15)<=mediçao,0,OFFSET(Import.PLQ,$A22-1,M$15-1,1,1)),OFFSET(Import.PLQ,$A22-1,M$15-1,1,1)),(1-[1]PLE!$AA$28)*OFFSET(Import.PLQ,$A22-1,M$15-1,1,1)))) -> 2.5 | N22: =IF(N$13="",0,CHOOSE(Detalhamento.OpçãoServiços,OFFSET(Import.PLQ,$A22-1,N$15-1,1,1),IF($E22<>1,IF(ISNUMBER(INDEX(Import.PLE,Detalhamento!$E22,Detalhamento!N$15)),IF(INDEX(Import.PLE,Detalhamento!$E22,Detalhamento!N$15)<=mediçao,OFFSET(Import.PLQ,$A22-1,N$15-1,1,1),0),0),[1]PLE!$AA$28*OFFSET(Import.PLQ,$A22-1,N$15-1,1,1)),IF($E22<>1,IF(ISNUMBER(INDEX(Import.PLE,Detalhamento!$E22,Detalhamento!N$15)),IF(INDEX(Import.PLE,Detalhamento!$E22,Detalhamento!N$15)<=mediçao,0,OFFSET(Import.PLQ,$A22-1,N$15-1,1,1)),OFFSET(Import.PLQ,$A22-1,N$15-1,1,1)),(1-[1]PLE!$AA$28)*OFFSET(Import.PLQ,$A22-1,N$15-1,1,1)))) -> 0 | O22: =IF(O$13="",0,CHOOSE(Detalhamento.OpçãoServiços,OFFSET(Import.PLQ,$A22-1,O$15-1,1,1),IF($E22<>1,IF(ISNUMBER(INDEX(Import.PLE,Detalhamento!$E22,Detalhamento!O$15)),IF(INDEX(Import.PLE,Detalhamento!$E22,Detalhamento!O$15)<=mediçao,OFFSET(Import.PLQ,$A22-1,O$15-1,1,1),0),0),[1]PLE!$AA$28*OFFSET(Import.PLQ,$A22-1,O$15-1,1,1)),IF($E22<>1,IF(ISNUMBER(INDEX(Import.PLE,Detalhamento!$E22,Detalhamento!O$15)),IF(INDEX(Import.PLE,Detalhamento!$E22,Detalhamento!O$15)<=mediçao,0,OFFSET(Import.PLQ,$A22-1,O$15-1,1,1)),OFFSET(Import.PLQ,$A22-1,O$15-1,1,1)),(1-[1]PLE!$AA$28)*OFFSET(Import.PLQ,$A22-1,O$15-1,1,1)))) -> 2.5 | P22: =IF(P$13="",0,CHOOSE(Detalhamento.OpçãoServiços,OFFSET(Import.PLQ,$A22-1,P$15-1,1,1),IF($E22<>1,IF(ISNUMBER(INDEX(Import.PLE,Detalhamento!$E22,Detalhamento!P$15)),IF(INDEX(Import.PLE,Detalhamento!$E22,Detalhamento!P$15)<=mediçao,OFFSET(Import.PLQ,$A22-1,P$15-1,1,1),0),0),[1]PLE!$AA$28*OFFSET(Import.PLQ,$A22-1,P$15-1,1,1)),IF($E22<>1,IF(ISNUMBER(INDEX(Import.PLE,Detalhamento!$E22,Detalhamento!P$15)),IF(INDEX(Import.PLE,Detalhamento!$E22,Detalhamento!P$15)<=mediçao,0,OFFSET(Import.PLQ,$A22-1,P$15-1,1,1)),OFFSET(Import.PLQ,$A22-1,P$15-1,1,1)),(1-[1]PLE!$AA$28)*OFFSET(Import.PLQ,$A22-1,P$15-1,1,1)))) -> 0 | Q22: =IF(Q$13="",0,CHOOSE(Detalhamento.OpçãoServiços,OFFSET(Import.PLQ,$A22-1,Q$15-1,1,1),IF($E22<>1,IF(ISNUMBER(INDEX(Import.PLE,Detalhamento!$E22,Detalhamento!Q$15)),IF(INDEX(Import.PLE,Detalhamento!$E22,Detalhamento!Q$15)<=mediçao,OFFSET(Import.PLQ,$A22-1,Q$15-1,1,1),0),0),[1]PLE!$AA$28*OFFSET(Import.PLQ,$A22-1,Q$15-1,1,1)),IF($E22<>1,IF(ISNUMBER(INDEX(Import.PLE,Detalhamento!$E22,Detalhamento!Q$15)),IF(INDEX(Import.PLE,Detalhamento!$E22,Detalhamento!Q$15)<=mediçao,0,OFFSET(Import.PLQ,$A22-1,Q$15-1,1,1)),OFFSET(Import.PLQ,$A22-1,Q$15-1,1,1)),(1-[1]PLE!$AA$28)*OFFSET(Import.PLQ,$A22-1,Q$15-1,1,1)))) -> 0 | R22: =IF(R$13="",0,CHOOSE(Detalhamento.OpçãoServiços,OFFSET(Import.PLQ,$A22-1,R$15-1,1,1),IF($E22<>1,IF(ISNUMBER(INDEX(Import.PLE,Detalhamento!$E22,Detalhamento!R$15)),IF(INDEX(Import.PLE,Detalhamento!$E22,Detalhamento!R$15)<=mediçao,OFFSET(Import.PLQ,$A22-1,R$15-1,1,1),0),0),[1]PLE!$AA$28*OFFSET(Import.PLQ,$A22-1,R$15-1,1,1)),IF($E22<>1,IF(ISNUMBER(INDEX(Import.PLE,Detalhamento!$E22,Detalhamento!R$15)),IF(INDEX(Import.PLE,Detalhamento!$E22,Detalhamento!R$15)<=mediçao,0,OFFSET(Import.PLQ,$A22-1,R$15-1,1,1)),OFFSET(Import.PLQ,$A22-1,R$15-1,1,1)),(1-[1]PLE!$AA$28)*OFFSET(Import.PLQ,$A22-1,R$15-1,1,1)))) -> 0 | S22: =IF(S$13="",0,CHOOSE(Detalhamento.OpçãoServiços,OFFSET(Import.PLQ,$A22-1,S$15-1,1,1),IF($E22<>1,IF(ISNUMBER(INDEX(Import.PLE,Detalhamento!$E22,Detalhamento!S$15)),IF(INDEX(Import.PLE,Detalhamento!$E22,Detalhamento!S$15)<=mediçao,OFFSET(Import.PLQ,$A22-1,S$15-1,1,1),0),0),[1]PLE!$AA$28*OFFSET(Import.PLQ,$A22-1,S$15-1,1,1)),IF($E22<>1,IF(ISNUMBER(INDEX(Import.PLE,Detalhamento!$E22,Detalhamento!S$15)),IF(INDEX(Import.PLE,Detalhamento!$E22,Detalhamento!S$15)<=mediçao,0,OFFSET(Import.PLQ,$A22-1,S$15-1,1,1)),OFFSET(Import.PLQ,$A22-1,S$15-1,1,1)),(1-[1]PLE!$AA$28)*OFFSET(Import.PLQ,$A22-1,S$15-1,1,1)))) -> 0 | ... BI22: =IF(BI$13="",0,CHOOSE(Detalhamento.OpçãoServiços,OFFSET(Import.PLQ,$A22-1,BI$15-1,1,1),IF($E22<>1,IF(ISNUMBER(INDEX(Import.PLE,Detalhamento!$E22,Detalhamento!BI$15)),IF(INDEX(Import.PLE,Detalhamento!$E22,Detalhamento!BI$15)<=mediçao,OFFSET(Import.PLQ,$A22-1,BI$15-1,1,1),0),0),[1]PLE!$AA$28*OFFSET(Import.PLQ,$A22-1,BI$15-1,1,1)),IF($E22<>1,IF(ISNUMBER(INDEX(Import.PLE,Detalhamento!$E22,Detalhamento!BI$15)),IF(INDEX(Import.PLE,Detalhamento!$E22,Detalhamento!BI$15)<=mediçao,0,OFFSET(Import.PLQ,$A22-1,BI$15-1,1,1)),OFFSET(Import.PLQ,$A22-1,BI$15-1,1,1)),(1-[1]PLE!$AA$28)*OFFSET(Import.PLQ,$A22-1,BI$15-1,1,1)))) -> 0
A23: 3 | B23: =OFFSET(LIorçamento,$A23-1,B$16,1,1) -> Serviço | E23: =OFFSET(LIorçamento,$A23-1,E$16,1,1) -> 2 | F23: =CHOOSE($B$8,IF(OR(Nível="Serviço",Nível="Evento"),E23*10^4+IF(Nível<>"Evento",A23,0),0),IF(Nível<>"Evento",A23,0)) -> 20003 | G23: =OFFSET(LIorçamento,$A23-1,G$16,1,1) -> 1.2 | H23: =OFFSET(LIorçamento,$A23-1,H$16,1,1) -> EXECUÇÃO DE ALMOXARIFADO EM CANTEIRO DE OBRA EM CHAPA DE MADEIRA COMPENSADA, INCLUSO PRATELEIRAS. AF_02/2016 | I23: =IF(OR(Nível="Serviço",Nível="evento"),OFFSET(LIorçamento,$A23-1,I$16,1,1),"") -> M² | J23: =IF(OR(Nível="Serviço",Nível="evento"),SUM(L23:BI23),"") -> 21 | L23: =IF(L$13="",0,CHOOSE(Detalhamento.OpçãoServiços,OFFSET(Import.PLQ,$A23-1,L$15-1,1,1),IF($E23<>1,IF(ISNUMBER(INDEX(Import.PLE,Detalhamento!$E23,Detalhamento!L$15)),IF(INDEX(Import.PLE,Detalhamento!$E23,Detalhamento!L$15)<=mediçao,OFFSET(Import.PLQ,$A23-1,L$15-1,1,1),0),0),[1]PLE!$AA$28*OFFSET(Import.PLQ,$A23-1,L$15-1,1,1)),IF($E23<>1,IF(ISNUMBER(INDEX(Import.PLE,Detalhamento!$E23,Detalhamento!L$15)),IF(INDEX(Import.PLE,Detalhamento!$E23,Detalhamento!L$15)<=mediçao,0,OFFSET(Import.PLQ,$A23-1,L$15-1,1,1)),OFFSET(Import.PLQ,$A23-1,L$15-1,1,1)),(1-[1]PLE!$AA$28)*OFFSET(Import.PLQ,$A23-1,L$15-1,1,1)))) -> 0 | M23: =IF(M$13="",0,CHOOSE(Detalhamento.OpçãoServiços,OFFSET(Import.PLQ,$A23-1,M$15-1,1,1),IF($E23<>1,IF(ISNUMBER(INDEX(Import.PLE,Detalhamento!$E23,Detalhamento!M$15)),IF(INDEX(Import.PLE,Detalhamento!$E23,Detalhamento!M$15)<=mediçao,OFFSET(Import.PLQ,$A23-1,M$15-1,1,1),0),0),[1]PLE!$AA$28*OFFSET(Import.PLQ,$A23-1,M$15-1,1,1)),IF($E23<>1,IF(ISNUMBER(INDEX(Import.PLE,Detalhamento!$E23,Detalhamento!M$15)),IF(INDEX(Import.PLE,Detalhamento!$E23,Detalhamento!M$15)<=mediçao,0,OFFSET(Import.PLQ,$A23-1,M$15-1,1,1)),OFFSET(Import.PLQ,$A23-1,M$15-1,1,1)),(1-[1]PLE!$AA$28)*OFFSET(Import.PLQ,$A23-1,M$15-1,1,1)))) -> 10.5 | N23: =IF(N$13="",0,CHOOSE(Detalhamento.OpçãoServiços,OFFSET(Import.PLQ,$A23-1,N$15-1,1,1),IF($E23<>1,IF(ISNUMBER(INDEX(Import.PLE,Detalhamento!$E23,Detalhamento!N$15)),IF(INDEX(Import.PLE,Detalhamento!$E23,Detalhamento!N$15)<=mediçao,OFFSET(Import.PLQ,$A23-1,N$15-1,1,1),0),0),[1]PLE!$AA$28*OFFSET(Import.PLQ,$A23-1,N$15-1,1,1)),IF($E23<>1,IF(ISNUMBER(INDEX(Import.PLE,Detalhamento!$E23,Detalhamento!N$15)),IF(INDEX(Import.PLE,Detalhamento!$E23,Detalhamento!N$15)<=mediçao,0,OFFSET(Import.PLQ,$A23-1,N$15-1,1,1)),OFFSET(Import.PLQ,$A23-1,N$15-1,1,1)),(1-[1]PLE!$AA$28)*OFFSET(Import.PLQ,$A23-1,N$15-1,1,1)))) -> 0 | O23: =IF(O$13="",0,CHOOSE(Detalhamento.OpçãoServiços,OFFSET(Import.PLQ,$A23-1,O$15-1,1,1),IF($E23<>1,IF(ISNUMBER(INDEX(Import.PLE,Detalhamento!$E23,Detalhamento!O$15)),IF(INDEX(Import.PLE,Detalhamento!$E23,Detalhamento!O$15)<=mediçao,OFFSET(Import.PLQ,$A23-1,O$15-1,1,1),0),0),[1]PLE!$AA$28*OFFSET(Import.PLQ,$A23-1,O$15-1,1,1)),IF($E23<>1,IF(ISNUMBER(INDEX(Import.PLE,Detalhamento!$E23,Detalhamento!O$15)),IF(INDEX(Import.PLE,Detalhamento!$E23,Detalhamento!O$15)<=mediçao,0,OFFSET(Import.PLQ,$A23-1,O$15-1,1,1)),OFFSET(Import.PLQ,$A23-1,O$15-1,1,1)),(1-[1]PLE!$AA$28)*OFFSET(Import.PLQ,$A23-1,O$15-1,1,1)))) -> 10.5 | P23: =IF(P$13="",0,CHOOSE(Detalhamento.OpçãoServiços,OFFSET(Import.PLQ,$A23-1,P$15-1,1,1),IF($E23<>1,IF(ISNUMBER(INDEX(Import.PLE,Detalhamento!$E23,Detalhamento!P$15)),IF(INDEX(Import.PLE,Detalhamento!$E23,Detalhamento!P$15)<=mediçao,OFFSET(Import.PLQ,$A23-1,P$15-1,1,1),0),0),[1]PLE!$AA$28*OFFSET(Import.PLQ,$A23-1,P$15-1,1,1)),IF($E23<>1,IF(ISNUMBER(INDEX(Import.PLE,Detalhamento!$E23,Detalhamento!P$15)),IF(INDEX(Import.PLE,Detalhamento!$E23,Detalhamento!P$15)<=mediçao,0,OFFSET(Import.PLQ,$A23-1,P$15-1,1,1)),OFFSET(Import.PLQ,$A23-1,P$15-1,1,1)),(1-[1]PLE!$AA$28)*OFFSET(Import.PLQ,$A23-1,P$15-1,1,1)))) -> 0 | Q23: =IF(Q$13="",0,CHOOSE(Detalhamento.OpçãoServiços,OFFSET(Import.PLQ,$A23-1,Q$15-1,1,1),IF($E23<>1,IF(ISNUMBER(INDEX(Import.PLE,Detalhamento!$E23,Detalhamento!Q$15)),IF(INDEX(Import.PLE,Detalhamento!$E23,Detalhamento!Q$15)<=mediçao,OFFSET(Import.PLQ,$A23-1,Q$15-1,1,1),0),0),[1]PLE!$AA$28*OFFSET(Import.PLQ,$A23-1,Q$15-1,1,1)),IF($E23<>1,IF(ISNUMBER(INDEX(Import.PLE,Detalhamento!$E23,Detalhamento!Q$15)),IF(INDEX(Import.PLE,Detalhamento!$E23,Detalhamento!Q$15)<=mediçao,0,OFFSET(Import.PLQ,$A23-1,Q$15-1,1,1)),OFFSET(Import.PLQ,$A23-1,Q$15-1,1,1)),(1-[1]PLE!$AA$28)*OFFSET(Import.PLQ,$A23-1,Q$15-1,1,1)))) -> 0 | R23: =IF(R$13="",0,CHOOSE(Detalhamento.OpçãoServiços,OFFSET(Import.PLQ,$A23-1,R$15-1,1,1),IF($E23<>1,IF(ISNUMBER(INDEX(Import.PLE,Detalhamento!$E23,Detalhamento!R$15)),IF(INDEX(Import.PLE,Detalhamento!$E23,Detalhamento!R$15)<=mediçao,OFFSET(Import.PLQ,$A23-1,R$15-1,1,1),0),0),[1]PLE!$AA$28*OFFSET(Import.PLQ,$A23-1,R$15-1,1,1)),IF($E23<>1,IF(ISNUMBER(INDEX(Import.PLE,Detalhamento!$E23,Detalhamento!R$15)),IF(INDEX(Import.PLE,Detalhamento!$E23,Detalhamento!R$15)<=mediçao,0,OFFSET(Import.PLQ,$A23-1,R$15-1,1,1)),OFFSET(Import.PLQ,$A23-1,R$15-1,1,1)),(1-[1]PLE!$AA$28)*OFFSET(Import.PLQ,$A23-1,R$15-1,1,1)))) -> 0 | S23: =IF(S$13="",0,CHOOSE(Detalhamento.OpçãoServiços,OFFSET(Import.PLQ,$A23-1,S$15-1,1,1),IF($E23<>1,IF(ISNUMBER(INDEX(Import.PLE,Detalhamento!$E23,Detalhamento!S$15)),IF(INDEX(Import.PLE,Detalhamento!$E23,Detalhamento!S$15)<=mediçao,OFFSET(Import.PLQ,$A23-1,S$15-1,1,1),0),0),[1]PLE!$AA$28*OFFSET(Import.PLQ,$A23-1,S$15-1,1,1)),IF($E23<>1,IF(ISNUMBER(INDEX(Import.PLE,Detalhamento!$E23,Detalhamento!S$15)),IF(INDEX(Import.PLE,Detalhamento!$E23,Detalhamento!S$15)<=mediçao,0,OFFSET(Import.PLQ,$A23-1,S$15-1,1,1)),OFFSET(Import.PLQ,$A23-1,S$15-1,1,1)),(1-[1]PLE!$AA$28)*OFFSET(Import.PLQ,$A23-1,S$15-1,1,1)))) -> 0 | ... BI23: =IF(BI$13="",0,CHOOSE(Detalhamento.OpçãoServiços,OFFSET(Import.PLQ,$A23-1,BI$15-1,1,1),IF($E23<>1,IF(ISNUMBER(INDEX(Import.PLE,Detalhamento!$E23,Detalhamento!BI$15)),IF(INDEX(Import.PLE,Detalhamento!$E23,Detalhamento!BI$15)<=mediçao,OFFSET(Import.PLQ,$A23-1,BI$15-1,1,1),0),0),[1]PLE!$AA$28*OFFSET(Import.PLQ,$A23-1,BI$15-1,1,1)),IF($E23<>1,IF(ISNUMBER(INDEX(Import.PLE,Detalhamento!$E23,Detalhamento!BI$15)),IF(INDEX(Import.PLE,Detalhamento!$E23,Detalhamento!BI$15)<=mediçao,0,OFFSET(Import.PLQ,$A23-1,BI$15-1,1,1)),OFFSET(Import.PLQ,$A23-1,BI$15-1,1,1)),(1-[1]PLE!$AA$28)*OFFSET(Import.PLQ,$A23-1,BI$15-1,1,1)))) -> 0
