Workbook
Name CARIMBO: INDEX(#REF!,MATCH([1]ORÇAMENTO!#REF!,#REF!,0))
Name CONS.ASF.: [2]TERRAPLENAGEM!#REF!
Name CONSERVAÇÃO: [2]TERRAPLENAGEM!#REF!
Name DER: #REF!
Name DRENAGEM: [2]TERRAPLENAGEM!#REF!
Name edir: [2]TERRAPLENAGEM!#REF!
Name EQUIPAMENTOS: [2]TERRAPLENAGEM!#REF!
Name extred100: [3]MEMORIAL!#REF!
Name FEV00: [4]Consultoria!#REF!
Name HORAMÁQUINA: [2]TERRAPLENAGEM!#REF!
Name Imprimir_títulos_IM: #N/A
Name INDICE: #REF!
Name insumo: #REF!
Name insumos: #REF!
Name IOPES: #REF!
Name JAN00: [4]Consultoria!#REF!
Name jun00: [4]Consultoria!#REF!
Name mai00: [4]Consultoria!#REF!
Name MAR00: [4]Consultoria!#REF!
Name MATERIAIS: [2]TERRAPLENAGEM!#REF!
Name MCOD02.020.0010: [5]MEMORIAL!#REF!
Name MCOD02.020.0010_1: [6]MEMORIAL!#REF!
Name MCOD02.020.0070: [5]MEMORIAL!#REF!
Name MCOD02.020.0070_1: [6]MEMORIAL!#REF!
Name MCOD02.030.0090: [5]MEMORIAL!#REF!
Name MCOD02.030.0090_1: [6]MEMORIAL!#REF!
Name MCOD02.030.0100: [5]MEMORIAL!#REF!
Name MCOD02.030.0100_1: [6]MEMORIAL!#REF!
Name MCOD02.040.0200: [5]MEMORIAL!#REF!
Name MCOD02.040.0200_1: [6]MEMORIAL!#REF!
Name MCOD02.040.0280: [5]MEMORIAL!#REF!
Name MCOD02.040.0280_1: [6]MEMORIAL!#REF!
Name MCOD02.040.0921: [5]MEMORIAL!#REF!
Name MCOD02.040.0921_1: [6]MEMORIAL!#REF!
Name MCOD02.040.1055: [5]MEMORIAL!#REF!
Name MCOD02.040.1055_1: [6]MEMORIAL!#REF!
Name MCOD02.040.1060: [5]MEMORIAL!#REF!
Name MCOD02.040.1060_1: [6]MEMORIAL!#REF!
Name MCOD02.040.3790: [5]MEMORIAL!#REF!
Name MCOD02.040.3790_1: [6]MEMORIAL!#REF!
Name MCOD02.040.3800: [5]MEMORIAL!#REF!
Name MCOD02.040.3800_1: [6]MEMORIAL!#REF!
Name MCOD02.040.3810: [5]MEMORIAL!#REF!
Name MCOD02.040.3810_1: [6]MEMORIAL!#REF!
Name MCOD02.040.4510: [5]MEMORIAL!#REF!
Name MCOD02.040.4510_1: [6]MEMORIAL!#REF!
Name MCOD02.040.4520: [5]MEMORIAL!#REF!
Name MCOD02.040.4520_1: [6]MEMORIAL!#REF!
Name MCOD02.040.4550: [5]MEMORIAL!#REF!
Name MCOD02.040.4550_1: [6]MEMORIAL!#REF!
Name MCOD02.040.4620: [5]MEMORIAL!#REF!
Name MCOD02.040.4620_1: [6]MEMORIAL!#REF!
Name MCOD02.040.4630: [5]MEMORIAL!#REF!
Name MCOD02.040.4630_1: [6]MEMORIAL!#REF!
Name MCOD02.040.4636: [5]MEMORIAL!#REF!
Name MCOD02.040.4636_1: [6]MEMORIAL!#REF!
Name MCOD02.040.4690: [5]MEMORIAL!#REF!
Name MCOD02.040.4690_1: [6]MEMORIAL!#REF!
Name MCOD02.040.7402: [5]MEMORIAL!#REF!
Name MCOD02.040.7402_1: [6]MEMORIAL!#REF!

Sheet SINAPIinsu
A1: PRECOS DE INSUMOS
A3: MES DE COLETA: 03/2023
A4: LOCALIDADE: 2680 - VITORIA
A5: ENCARGOS SOCIAIS (%) HORISTA 116,32 MENSALISTA 72,58
A7: CODIGO | B7: DESCRICAO DO INSUMO | C7: UNIDADE | D7: PRECO MEDIANO R$
A8: 38605 | B8: ABERTURA PARA ENCAIXE DE CUBA OU LAVATORIO EM BANCADA DE MARMORE/ GRANITO OU OUTRO TIPO DE PEDRA NATURAL | C8: UN | D8: 66.81
A9: 11270 | B9: ABRACADEIRA DE LATAO PARA FIXACAO DE CABO PARA-RAIO, DIMENSOES 32 X 24 X 24 MM | C9: UN | D9: 2.77
A10: 412 | B10: ABRACADEIRA DE NYLON PARA AMARRACAO DE CABOS, COMPRIMENTO DE *230* X *7,6* MM | C10: UN | D10: 1.18
A11: 414 | B11: ABRACADEIRA DE NYLON PARA AMARRACAO DE CABOS, COMPRIMENTO DE 100 X 2,5 MM | C11: UN | D11: 0.07
A12: 410 | B12: ABRACADEIRA DE NYLON PARA AMARRACAO DE CABOS, COMPRIMENTO DE 150 X *3,6* MM | C12: UN | D12: 0.18
A13: 411 | B13: ABRACADEIRA DE NYLON PARA AMARRACAO DE CABOS, COMPRIMENTO DE 200 X *4,6* MM | C13: UN | D13: 0.23
A14: 408 | B14: ABRACADEIRA DE NYLON PARA AMARRACAO DE CABOS, COMPRIMENTO DE 390 X *4,6* MM | C14: UN | D14: 1.14
A15: 39131 | B15: ABRACADEIRA EM ACO PARA AMARRACAO DE ELETRODUTOS, TIPO D, COM 1 1/2" E CUNHA DE FIXACAO | C15: UN | D15: 3.71
A16: 394 | B16: ABRACADEIRA EM ACO PARA AMARRACAO DE ELETRODUTOS, TIPO D, COM 1 1/2" E PARAFUSO DE FIXACAO | C16: UN | D16: 3.75
A17: 39130 | B17: ABRACADEIRA EM ACO PARA AMARRACAO DE ELETRODUTOS, TIPO D, COM 1 1/4" E CUNHA DE FIXACAO | C17: UN | D17: 3.38
A18: 395 | B18: ABRACADEIRA EM ACO PARA AMARRACAO DE ELETRODUTOS, TIPO D, COM 1 1/4" E PARAFUSO DE FIXACAO | C18: UN | D18: 3.61
A19: 39127 | B19: ABRACADEIRA EM ACO PARA AMARRACAO DE ELETRODUTOS, TIPO D, COM 1/2" E CUNHA DE FIXACAO | C19: UN | D19: 1.78
... A4949: 41776 | B4949: VIGIA NOTURNO, HORA EFETIVAMENTE TRABALHADA DE 22 H AS 5 H (COM ADICIONAL NOTURNO) | C4949: H | D4949: 18.25
A4951: TOTAL DE INSUMOS : 4942

Sheet ORÇAMENTO
A1: PREFEITURA DE CONCEIÇÃO DO CASTELO
A2: Av. José Grilo, 152 - Centro Conceição do Castelo/ES - CEP 29370000 Telefone: (28) 3547-1310
A3: PLANILHA ORÇAMENTÁRIA
A5: Obra: | C5: RECUPERAÇÃO DAS PAVIMENTAÇÕES E VIAS URBANAS NO MUNICÍPIO DE CONCEIÇÃO DO CASTELO | K5: LEGENDA:
A6: Local: | C6: RUA EDSON ALTOÉ, BAIRRO PEDRO RIGO, CONCEIÇÃO DO CASTELO - ES | K6: SINAPI: SINAPI
A7: Proprietário: | C7: PREFEITURA DE CONCEIÇÃO DO CASTELO/ES | K7: DER: DER EDIFICAÇÕES
A8: Data base: | C8: AGOSTO/2023 | K8: DER-R: DER RODOVIAS
A9: BDI: | C9: 0.2414 | K9: CPU: COMPOSIÇÃO
A10: Encargos Sociais: | C10: 1.1632 | D10: (hora) / SEM DESONERAÇÃO | J10: Data: | K10: =TODAY() -> 45287
A12: ITEM | B12: FONTE | C12: CÓDIGO | D12: ESPECIFICAÇÃO | E12: CONTRATADO | J12: PROPOSTA DA EMPRESA
E13: UNID. | F13: QUANT. | G13: VALOR UNIT. | H13: VALOR UNIT C/ BDI | I13: VALOR TOTAL | J13: VALOR UNITÁRIO | K13: VALOR TOTAL
A14: 1 | D14: SERVIÇOS PRELIMINARES | I14: =SUBTOTAL(9,I15:I16) -> 4394.78 | K14: =SUBTOTAL(9,K15:K16) -> 0
A15: 01.01 | B15: SINAPI | C15: 103689 | D15: FORNECIMENTO E INSTALAÇÃO DE PLACA DE OBRA COM CHAPA GALVANIZADA E ESTRUTURA DE MADEIRA. AF_03/2022_PS | E15: M2 | F15: 4.5 | H15: 384.45 | I15: =ROUND(ROUND(F15,2)*ROUND(H15,2),2) -> 1730.03 | K15: =ROUND(J15*F15,2) -> 0
A16: 01.02 | B16: DER | C16: 20803 | D16: Barracão para depósito de cimento área de 10.90m2, de chapa de compensado 12mm e pontaletes 8x8cm, piso cimentado e cobertura de telhas de fibrocimento de 6mm, inclusive ponto de luz, conf. projeto (2 utilizações) | E16: m2 | F16: 5 | G16: =IF(B16="IOPES",ROUND((VLOOKUP(C16,IOPES,7,0))*(1+$C$9),2),IF(B16="SINAPI",ROUND(VLOOKUP(C16,SINAPI,4,0),2),"ERRO")) -> ERRO | H16: 532.95 | I16: =ROUND(ROUND(F16,2)*ROUND(H16,2),2) -> 2664.75 | K16: =ROUND(J16*F16,2) -> 0
A17: 2 | D17: PAVIMENTAÇÃO | I17: =SUBTOTAL(9,I18:I26) -> 138401.42 | K17: =SUBTOTAL(9,K18:K26) -> 0
A18: 02.01 | B18: DER | C18: 10213 | D18: Retirada manual de blocos pré-moldados de concreto (Blokret), inclusive empilhamento para reaproveitamento | E18: m2 | F18: 961.29 | H18: 16.65 | I18: =ROUND(ROUND(F18,2)*ROUND(H18,2),2) -> 16005.48 | K18: =ROUND(J18*F18,2) -> 0
A19: 02.02 | B19: DER | C19: 10216 | D19: Retirada de meio-fio de concreto | E19: m | F19: 269.89 | H19: 11.89 | I19: =ROUND(ROUND(F19,2)*ROUND(H19,2),2) -> 3208.99 | K19: =ROUND(J19*F19,2) -> 0
A20: 02.03 | B20: SINAPI | C20: 92404 | D20: EXECUÇÃO DE PAVIMENTO EM PISO INTERTRAVADO, COM BLOCO 16 FACES DE 22 X 11 CM, ESPESSURA 8 CM. AF_10/2022 | E20: M2 | F20: 764.82 | G20: =IF(B20="IOPES",ROUND((VLOOKUP(C20,IOPES,7,0))*(1+$C$9),2),IF(B20="SINAPI",ROUND(VLOOKUP(C20,SINAPI,4,0),2),"ERRO")) -> #REF! | H20: 105.05 | I20: =ROUND(ROUND(F20,2)*ROUND(H20,2),2) -> 80344.34 | K20: =ROUND(J20*F20,2) -> 0
A21: 02.04 | B21: SINAPI | C21: 101114 | D21: ESCAVAÇÃO HORIZONTAL EM SOLO DE 1A CATEGORIA COM TRATOR DE ESTEIRAS (100HP/LÂMINA: 2,19M3). AF_07/2020 | E21: M3 | F21: 76.48 | H21: 5.25 | I21: =ROUND(ROUND(F21,2)*ROUND(H21,2),2) -> 401.52 | K21: =ROUND(J21*F21,2) -> 0
A22: 02.05 | B22: SINAPI | C22: 100577 | D22: REGULARIZAÇÃO E COMPACTAÇÃO DE SUBLEITO DE SOLO PREDOMINANTEMENTE ARENOSO. AF_11/2019 | E22: M2 | F22: 1386.84 | G22: =IF(B22="IOPES",ROUND((VLOOKUP(C22,IOPES,7,0))*(1+$C$9),2),IF(B22="SINAPI",ROUND(VLOOKUP(C22,SINAPI,4,0),2),"ERRO")) -> #REF! | H22: 1.49 | I22: =ROUND(ROUND(F22,2)*ROUND(H22,2),2) -> 2066.39 | K22: =ROUND(J22*F22,2) -> 0
A23: 02.06 | B23: SINAPI | C23: 101768 | D23: EXECUÇÃO E COMPACTAÇÃO DE BASE E OU SUB BASE PARA PAVIMENTAÇÃO DE SOLO ESTABILIZADO GRANULOMETRICAMENTE SEM MISTURA DE SOLOS - EXCLUSIVE SOLO, ESCAVAÇÃO, CARGA E TRANSPORTE. AF_11/2019 | E23: M³ | F23: 76.48 | G23: =IF(B23="IOPES",ROUND((VLOOKUP(C23,IOPES,7,0))*(1+$C$9),2),IF(B23="SINAPI",ROUND(VLOOKUP(C23,SINAPI,4,0),2),"ERRO")) -> #REF! | H23: 50.62 | I23: =ROUND(ROUND(F23,2)*ROUND(H23,2),2) -> 3871.42 | K23: =ROUND(J23*F23,2) -> 0
A24: 02.07 | B24: CPU | C24: 8 | D24: FORNECIMENTO E TRANSPORTE DE AREIA MÉDIA PARA EXECUÇÃO DE BASE | E24: m³ | F24: 76.48 | H24: 139.96 | I24: =ROUND(ROUND(F24,2)*ROUND(H24,2),2) -> 10704.14 | K24: =ROUND(J24*F24,2) -> 0
A25: 02.08 | B25: SINAPI | C25: 94273 | D25: ASSENTAMENTO DE GUIA (MEIO-FIO) EM TRECHO RETO, CONFECCIONADA EM CONCRETO PRÉ-FABRICADO, DIMENSÕES 100X15X13X30 CM (COMPRIMENTO X BASE INFERIOR X BASE SUPERIOR X ALTURA), PARA VIAS URBANAS (USO VIÁRIO). AF_06/2016 | E25: M | F25: 286.18 | G25: =IF(B25="IOPES",ROUND((VLOOKUP(C25,IOPES,7,0))*(1+$C$9),2),IF(B25="SINAPI",ROUND(VLOOKUP(C25,SINAPI,4,0),2),"ERRO")) -> #REF! | H25: 74.22 | I25: =ROUND(ROUND(F25,2)*ROUND(H25,2),2) -> 21240.28 | K25: =ROUND(J25*F25,2) -> 0
A26: 02.09 | B26: SINAPI | C26: 94274 | D26: ASSENTAMENTO DE GUIA (MEIO-FIO) EM TRECHO CURVO, CONFECCIONADA EM CONCRETO PRÉ-FABRICADO, DIMENSÕES 100X15X13X30 CM (COMPRIMENTO X BASE INFERIOR X BASE SUPERIOR X ALTURA), PARA VIAS URBANAS (USO VIÁRIO). AF_06/2016 | E26: M | F26: 7.02 | G26: =IF(B26="IOPES",ROUND((VLOOKUP(C26,IOPES,7,0))*(1+$C$9),2),IF(B26="SINAPI",ROUND(VLOOKUP(C26,SINAPI,4,0),2),"ERRO")) -> #REF! | H26: 79.61 | I26: =ROUND(ROUND(F26,2)*ROUND(H26,2),2) -> 558.86 | K26: =ROUND(J26*F26,2) -> 0
A27: 3 | D27: CALÇADA ACESSÍVEL | I27: =SUBTOTAL(9,I28:I32) -> 74468.46 | K27: =SUBTOTAL(9,K28:K32) -> 0
A28: 03.01 | B28: SINAPI | C28: 96622 | D28: LASTRO COM MATERIAL GRANULAR, APLICADO EM PISOS OU LAJES SOBRE SOLO, ESPESSURA DE *5 CM*. AF_08/2017 | E28: M3 | F28: 21.27 | G28: =IF(B28="IOPES",ROUND((VLOOKUP(C28,IOPES,7,0))*(1+$C$9),2),IF(B28="SINAPI",ROUND(VLOOKUP(C28,SINAPI,4,0),2),"ERRO")) -> #REF! | H28: 248.8 | I28: =ROUND(ROUND(F28,2)*ROUND(H28,2),2) -> 5291.98 | K28: =ROUND(J28*F28,2) -> 0
A29: 03.02 | B29: SINAPI | C29: 94995 | D29: EXECUÇÃO DE PASSEIO (CALÇADA) OU PISO DE CONCRETO COM CONCRETO MOLDADO IN LOCO, USINADO, ACABAMENTO CONVENCIONAL, ESPESSURA 8 CM, ARMADO. AF_08/2022 | E29: M2 | F29: 425.48 | G29: =IF(B29="IOPES",ROUND((VLOOKUP(C29,IOPES,7,0))*(1+$C$9),2),IF(B29="SINAPI",ROUND(VLOOKUP(C29,SINAPI,4,0),2),"ERRO")) -> #REF! | H29: 132.43 | I29: =ROUND(ROUND(F29,2)*ROUND(H29,2),2) -> 56346.32 | K29: =ROUND(J29*F29,2) -> 0
A30: 03.03 | B30: SINAPI | C30: 96385 | D30: EXECUÇÃO E COMPACTAÇÃO DE ATERRO COM SOLO PREDOMINANTEMENTE ARGILOSO - EXCLUSIVE SOLO, ESCAVAÇÃO, CARGA E TRANSPORTE. AF_11/2019 | E30: M3 | F30: 85.1 | G30: =IF(B30="IOPES",ROUND((VLOOKUP(C30,IOPES,7,0))*(1+$C$9),2),IF(B30="SINAPI",ROUND(VLOOKUP(C30,SINAPI,4,0),2),"ERRO")) -> #REF! | H30: 14.05 | I30: =ROUND(ROUND(F30,2)*ROUND(H30,2),2) -> 1195.66 | K30: =ROUND(J30*F30,2) -> 0
A31: 03.04 | B31: DER | C31: 10201 | D31: Demolição de piso cimentado inclusive lastro de concreto | E31: m2 | F31: 196.33 | H31: 30.91 | I31: =ROUND(ROUND(F31,2)*ROUND(H31,2),2) -> 6068.56 | K31: =ROUND(J31*F31,2) -> 0
A32: 03.05 | B32: DER | C32: 200253 | D32: Fornecimento e assentamento de ladrilho hidráulico pastilhado, vermelho, dim. 20x20 cm, esp. 1.5cm, assentado com pasta de cimento colante, exclusive regularização e lastro | E32: m2 | F32: 56.08 | H32: 99.25 | I32: =ROUND(ROUND(F32,2)*ROUND(H32,2),2) -> 5565.94 | K32: =ROUND(J32*F32,2) -> 0
A33: 4 | D33: MOBILIZAÇÃO E DESMOBILIZAÇÃO DE EQUIPAMENTOS | I33: =SUBTOTAL(9,I34:I35) -> 3857.94 | K33: =SUBTOTAL(9,K34:K35) -> 0
A34: 04.01 | B34: CPU | C34: MOBILIZAÇÃO | D34: Mobilização de equipamentos com carreta prancha (máximo) | E34: UND | F34: 1 | H34: 1928.9742 | I34: =ROUND(ROUND(F34,2)*ROUND(H34,2),2) -> 1928.97 | K34: =ROUND(J34*F34,2) -> 0
A35: 04.02 | B35: CPU | C35: DESMOBILIZAÇÃO | D35: Desmobilização de equipamentos com carreta prancha (máximo) | E35: UND | F35: 1 | H35: 1928.9742 | I35: =ROUND(ROUND(F35,2)*ROUND(H35,2),2) -> 1928.97 | K35: =ROUND(J35*F35,2) -> 0
A36: 5 | D36: LIMPEZA E CARGA | I36: =SUBTOTAL(9,I37:I38) -> 2602.35 | K36: =SUBTOTAL(9,K37:K38) -> 0
A37: 05.01 | B37: SINAPI | C37: 100982 | D37: CARGA, MANOBRA E DESCARGA DE ENTULHO EM CAMINHÃO BASCULANTE 10 M³ - CARGA COM ESCAVADEIRA HIDRÁULICA (CAÇAMBA DE 0,80 M³ / 111 HP) E DESCARGA LIVRE (UNIDADE: M3). AF_07/2020 | E37: M3 | F37: 146.28401 | H37: 10.59 | I37: =ROUND(ROUND(F37,2)*ROUND(H37,2),2) -> 1549.11 | K37: =ROUND(J37*F37,2) -> 0
A38: 05.02 | B38: SINAPI | C38: 95875 | D38: TRANSPORTE COM CAMINHÃO BASCULANTE DE 10 M³, EM VIA URBANA PAVIMENTADA, DMT ATÉ 30 KM (UNIDADE: M3XKM). AF_07/2020 | E38: M3XKM | F38: 365.71 | G38: =IF(B38="IOPES",ROUND((VLOOKUP(C38,IOPES,7,0))*(1+$C$9),2),IF(B38="SINAPI",ROUND(VLOOKUP(C38,SINAPI,4,0),2),"ERRO")) -> #REF! | H38: 2.88 | I38: =ROUND(ROUND(F38,2)*ROUND(H38,2),2) -> 1053.24 | K38: =ROUND(J38*F38,2) -> 0
A39: 6 | D39: SINALIZAÇÃO VIÁRIA | H39: 972.80873 | I39: =SUBTOTAL(9,I40:I41) -> 3251.68 | K39: =SUBTOTAL(9,K40:K41) -> 0
A40: 6.01 | B40: SINAPI | C40: 102509 | D40: PINTURA DE FAIXA DE PEDESTRE OU ZEBRADA TINTA RETRORREFLETIVA A BASE DE RESINA ACRÍLICA COM MICROESFERAS DE VIDRO, E = 30 CM, APLICAÇÃO MANUAL. AF_05/2021 | E40: M2 | F40: 26.4 | G40: 35.08 | H40: 35.08 | I40: =ROUND(F40*H40,2) -> 926.11 | K40: =ROUND(J40*F40,2) -> 0
A41: 6.02 | B41: DER ES | C41: 40936 | D41: Sinalização vertical com chapa revestida em película, inclusive suporte em madeira | E41: M2 | F41: 2.48 | G41: 937.72873 | H41: 937.72873 | I41: =ROUND(F41*H41,2) -> 2325.57 | K41: =ROUND(J41*F41,2) -> 0
A42: 7 | D42: ADMINISTRAÇÃO LOCAL | I42: =SUBTOTAL(9,I43:I43) -> 5145.98 | K42: =SUBTOTAL(9,K43:K43) -> 0
...

Sheet BDI
B2: DETALHAMENTO DO BDI
B4: PROPONENTE: | C4: =[20]ORÇAMENTO!C7 -> PREFEITURA DE CONCEIÇÃO DO CASTELO/ES
B5: OBRA: | C5: RECUPERAÇÃO DAS PAVIMENTAÇÕES E VIAS URBANAS NO MUNICÍPIO DE CONCEIÇÃO DO CASTELO
B7: 1. Regime de Contribuição Previdenciária
C9: Sem Desoneração
B11: 2. Tipo de Intervenção
C13: Rodovias e Ferrovias
B15: 3. Incidências sobre o custo
C17: Administração Central - A | D17: 0.0401
C18: Custos Financeiros - D | D18: 0.0111
C19: Risco, Garantias e Seguros - E | D19: 0.0096
C21: Lucro - L | D21: 0.073
B23: 4 – Incidências sobre o preço de venda
C25: Despesas Tributárias - C | D25: =(D28+D30+D31+D32)/100 -> 0.0865
C27: Percentual da base de cálculo para o ISS: | D27: 1
C28: Alíquota do ISS (sobre a base de cálculo): | D28: 5
C30: COFINS | D30: 3
C31: PIS | D31: 0.65
C32: INSS | D32: =IF(C9="Com Desoneração",4.5,0) -> 0
B34: 5 – Demonstrativo de cálculo do BDI
C36: BDI= (1+A+E).(1+D).(1+F) -1 = | D36: =(((1+D17+D19)*(1+D18)*(1+D21)/(1-D25))-1) -> 0.24666704
C37: ( 1- C )
B39: Com base no Código Tributário de Conceição do Castelo, Lei Completar nº60, Anexo II, a alíquota deverá ser de 5,0%, item 7.02 (Execução, por administração, empreitada ou subempreitada, de obras de construção civil, hidráulica ou elétrica e de outras obras semelhantes, inclusive sondagem, perfuração de poços, escavação, drenagem e irrigação, terraplanagem, pavimentação, concretagem e a instalação e montagem de produtos, peças e equipamentos)
H42: Com base no Código Tributário de Conceição do Castelo, Lei Completar nº60, Anexo II, a alíquota deverá ser de 5,0%, item 7.02 (Execução, por administração, empreitada ou subempreitada, de obras de construção civil, hidráulica ou elétrica e de outras obras semelhantes, inclusive sondagem, perfuração de poços, escavação, drenagem e irrigação, terraplanagem, pavimentação, concretagem e a instalação e montagem de produtos, peças e equipamentos)
B43: Declaro para os devidos fins que o regime de Contribuição Previdenciária adotado para
B44: =CONCATENATE("elaboração do orçamento foi ",C9,", e que esta é a alternativa mais adequada para ") -> elaboração do orçamento foi Sem Desoneração, e que esta é a alternativa mais adequada para
B45: a Administração Pública.
B48: Eng./Arq. | C48: ALEXANDRE GONÇALVES MANSUR ZAINE
B49: CREA/CAU: | C49: CREA ES-043313/D
C54: Responsável Tomador
B55: Nome | C55: Christiano Spadetto
B56: Cargo | C56: Prefeito

Sheet CPU 03
B3: FONTE: SINAPI (SEM DESONERAÇÃO)
B4: OBRA: RECUPERAÇÃO E REPOSIÇÃO DE CALÇAMENTO NO MUNICÍPIO DE CONCEIÇÃO DO CASTELO
B5: LOCAL: RUA EDSON ALTOÉ, BAIRRO PEDRO RIGO, CONCEIÇÃO DO CASTELO-ES | G5: UNIDADE | H5: COMP. Nº 03
B6: DESCRIÇÃO DO SERVIÇO | G6: UN | H6: COMP - ADM LOCAL
B7: ADMINISTRAÇÃO LOCAL | G7: BDI = | H7: 0.2051
C8: CATEGORIAS PROFISSIONAIS | D8: UNID. | E8: QUANTIDADE | F8: P. UNIT. | G8: SUB-TOTAIS | H8: TOTAL A
B9: MÃO DE OBRA | C9: 90777 - ENGENHEIRO CIVIL DE OBRA JUNIOR COM ENCARGOS COMPLEMENTARES | D9: HRS | E9: =5*4*4 -> 80 | F9: 112.44 | G9: =ROUND(E9*F9,2) -> 8995.2 | I9: OK
C10: 90776 - ENCARREGADO COM ENCARGOS COMPLEMENTARES | D10: HRS | E10: =40*4*5 -> 800 | F10: 37.93 | G10: =ROUND(E10*F10,2) -> 30344 | I10: OK
C11: 90781 - TOPOGRAFO COM ENCARGOS COMPLEMENTARES | D11: HRS | E11: 20 | F11: 31 | G11: =ROUND(E11*F11,2) -> 620 | I11: OK
C12: 88253 - AUXILIAR DE TOPÓGRAFO COM ENCARGOS COMPLEMENTARES | D12: HRS | E12: 20 | F12: 15 | G12: =ROUND(E12*F12,2) -> 300 | I12: OK
H13: =SUM(G9:G12) -> 40259.2
C14: DISCRIMINAÇÃO | D14: TAXA | E14: VALORES
B15: RESUMO | C15: MÃO DE OBRA (TOTAL A) | E15: =H13 -> 40259.2
C16: BDI (SOBRE TOTAL A) | D16: =BDI!D36 -> 0.24666704 | E16: =ROUND(E15*D16,2) -> 9930.62
C17: PREÇO UNITÁRIO | E17: =E15+E16 -> 50189.82
B18: Engenheiro: 5 horas semanais por 4 meses
B19: Encarregado: 40 horas semanais por 5 meses
B20: Topógrafo: 5 horas por 4 dias
B21: =#REF! -> #REF!

Sheet CPU 04
B2: COMPOSIÇÃO DE PREÇO UNITÁRIO
B3: CPU 04 | C3: =ORÇAMENTO!D31 -> Demolição de piso cimentado inclusive lastro de concreto | H3: Unidade: | I3: m²
B4: Fonte | D4: Código | E4: Descrição | F4: Unid. | G4: Quant. | H4: Preço unitário | I4: Preço Total
B5: SINAPI | C5: COMPOSIÇÃO | D5: 88309 | E5: =IF(C5="INSUMO",VLOOKUP(D5,SINAPIinsu!$A$8:$D$4951,2,0),VLOOKUP(D5,#REF!,2,0)) -> #REF! | F5: =IF(C5="INSUMO",VLOOKUP(D5,SINAPIinsu!$A$8:$D$4951,3,0),VLOOKUP(D5,#REF!,3,0)) -> #REF! | G5: 0.13 | H5: =IF(C5="INSUMO",VLOOKUP(D5,SINAPIinsu!$A$8:$D$4951,4,0),VLOOKUP(D5,#REF!,4,0)) -> #REF! | I5: =ROUND(G5*H5,2) -> #REF!
B6: SINAPI | C6: COMPOSIÇÃO | D6: 88316 | E6: =IF(C6="INSUMO",VLOOKUP(D6,SINAPIinsu!$A$8:$D$4951,2,0),VLOOKUP(D6,#REF!,2,0)) -> #REF! | F6: =IF(C6="INSUMO",VLOOKUP(D6,SINAPIinsu!$A$8:$D$4951,3,0),VLOOKUP(D6,#REF!,3,0)) -> #REF! | G6: 1.73 | H6: =IF(C6="INSUMO",VLOOKUP(D6,SINAPIinsu!$A$8:$D$4951,4,0),VLOOKUP(D6,#REF!,4,0)) -> #REF! | I6: =ROUND(G6*H6,2) -> #REF!
B7: OBS: composição montada com base na composição de serviço 010201 do DER | G7: SUB-TOTAL = | I7: =I5+I6 -> #REF!
G8: BDI = | I8: =BDI!D36 -> 0.24666704
G9: TOTAL = | I9: =ROUND(I7*(1+I8),2) -> #REF!
B12: =#REF! -> #REF!

Sheet CPU 05
B2: COMPOSIÇÃO DE PREÇO UNITÁRIO
B3: CPU 05 | C3: RETIRADA MANUAL DE BLOCOS PRÉ-MOLDADOS DE CONCRETO (BLOKRET), INCLUSIVE EMPILHAMENTO PARA REAPROVEITAMENTO | H3: Unidade: | I3: M2
B4: Fonte | D4: Código | E4: Descrição | F4: Unid. | G4: Quant. | H4: Preço unitário | I4: Preço Total
B5: SINAPI | C5: COMPOSIÇÃO | D5: 88309 | E5: =IF(C5="INSUMO",VLOOKUP(D5,SINAPIinsu!$A$8:$D$4951,2,0),VLOOKUP(D5,#REF!,2,0)) -> #REF! | F5: =IF(C5="INSUMO",VLOOKUP(D5,SINAPIinsu!$A$8:$D$4951,3,0),VLOOKUP(D5,#REF!,3,0)) -> #REF! | G5: 0.07 | H5: =IF(C5="INSUMO",VLOOKUP(D5,SINAPIinsu!$A$8:$D$4951,4,0),VLOOKUP(D5,#REF!,4,0)) -> #REF! | I5: =ROUND(G5*H5,2) -> #REF! | J5: OK
B6: SINAPI | C6: COMPOSIÇÃO | D6: 88316 | E6: =IF(C6="INSUMO",VLOOKUP(D6,SINAPIinsu!$A$8:$D$4951,2,0),VLOOKUP(D6,#REF!,2,0)) -> #REF! | F6: =IF(C6="INSUMO",VLOOKUP(D6,SINAPIinsu!$A$8:$D$4951,3,0),VLOOKUP(D6,#REF!,3,0)) -> #REF! | G6: 0.7 | H6: =IF(C6="INSUMO",VLOOKUP(D6,SINAPIinsu!$A$8:$D$4951,4,0),VLOOKUP(D6,#REF!,4,0)) -> #REF! | I6: =ROUND(G6*H6,2) -> #REF! | J6: OK
B7: OBS: composição montada com base na composição 010213 DO DER | G7: SUB-TOTAL = | I7: =SUM(I5:I6) -> #REF!
B8: O MUNICÍPIO TEM INTERESSE EM REUTILIZAÇÃO DO MATERIAL RETIRADO EM ESTRADAS VICINAIS | G8: BDI = | I8: =BDI!D36 -> 0.24666704
G9: TOTAL = | I9: =ROUND(I7*(1+I8),2) -> #REF!
B11: =ORÇAMENTO!A46 -> RESP.TÉCNICO

Sheet CPU 11
B2: COMPOSIÇÃO DE PREÇO UNITÁRIO
B3: CPU 11 | C3: LOCAÇÃO DE CONTAINER PARA ESCRITÓRIO E SANITÁRIOS - FORMAÇÃO DE CANTEIRO DE OBRAS | H3: Unidade: | I3: M2
B4: Fonte | D4: Código | E4: Descrição | F4: Unid. | G4: Quant. | H4: Preço unitário | I4: Preço Total
B5: SINAPI | C5: INSUMO | D5: 10777 | E5: =IF(C5="INSUMO",VLOOKUP(D5,SINAPIinsu!$A$8:$D$4951,2,0),VLOOKUP(D5,#REF!,2,0)) -> LOCACAO DE CONTAINER 2,30 X 4,30 M, ALT. 2,50 M, PARA SANITARIO, COM 3 BACIAS, 4 CHUVEIROS, 1 LAVATORIO E 1 MICTORIO (NAO INCLUI MOBILIZACAO/DESMOBILIZACAO) | F5: =IF(C5="INSUMO",VLOOKUP(D5,SINAPIinsu!$A$8:$D$4951,3,0),VLOOKUP(D5,#REF!,3,0)) -> MES | G5: 5 | H5: =IF(C5="INSUMO",VLOOKUP(D5,SINAPIinsu!$A$8:$D$4951,4,0),VLOOKUP(D5,#REF!,4,0)) -> 1218.86 | I5: =ROUND(G5*H5,2) -> 6094.3 | J5: OK
B6: SINAPI | C6: INSUMO | D6: 10775 | E6: =IF(C6="INSUMO",VLOOKUP(D6,SINAPIinsu!$A$8:$D$4951,2,0),VLOOKUP(D6,#REF!,2,0)) -> LOCACAO DE CONTAINER 2,30 X 6,00 M, ALT. 2,50 M, COM 1 SANITARIO, PARA ESCRITORIO, COMPLETO, SEM DIVISORIAS INTERNAS (NAO INCLUI MOBILIZACAO/DESMOBILIZACAO) | F6: =IF(C6="INSUMO",VLOOKUP(D6,SINAPIinsu!$A$8:$D$4951,3,0),VLOOKUP(D6,#REF!,3,0)) -> MES | G6: 5 | H6: =IF(C6="INSUMO",VLOOKUP(D6,SINAPIinsu!$A$8:$D$4951,4,0),VLOOKUP(D6,#REF!,4,0)) -> 1073.5 | I6: =ROUND(G6*H6,2) -> 5367.5 | J6: OK
B7: SINAPI | C7: COMPOSICAO | D7: 5824 | E7: =IF(C7="INSUMO",VLOOKUP(D7,SINAPIinsu!$A$8:$D$4951,2,0),VLOOKUP(D7,#REF!,2,0)) -> #REF! | F7: =IF(C7="INSUMO",VLOOKUP(D7,SINAPIinsu!$A$8:$D$4951,3,0),VLOOKUP(D7,#REF!,3,0)) -> #REF! | G7: 4 | H7: =IF(C7="INSUMO",VLOOKUP(D7,SINAPIinsu!$A$8:$D$4951,4,0),VLOOKUP(D7,#REF!,4,0)) -> #REF! | I7: =ROUND(G7*H7,2) -> #REF! | J7: OK
B8: OBS: COMPOSIÇÃO COMPARATIVA COM O ITEM 01- ORÇAMENTO | G8: SUB-TOTAL = | I8: =SUM(I5:I7) -> #REF!
B9: CONSIDERANDO 5 MESES DE OBRA | G9: BDI = | I9: 0.2566
G10: TOTAL = | I10: =ROUND(I8*(1+I9),2) -> #REF!
B14: =#REF! -> #REF!

Sheet CPU 09
B2: COMPOSIÇÃO DE PREÇO UNITÁRIO
B3: CPU 09 | C3: Retirada de meio-fio de concreto | H3: Unidade: | I3: M
B4: Fonte | D4: Código | E4: Descrição | F4: Unid. | G4: Quant. | H4: Preço unitário | I4: Preço Total
B5: SINAPI | C5: COMPOSIÇÃO | D5: 88309 | E5: =IF(C5="INSUMO",VLOOKUP(D5,SINAPIinsu!$A$8:$D$4951,2,0),VLOOKUP(D5,#REF!,2,0)) -> #REF! | F5: =IF(C5="INSUMO",VLOOKUP(D5,SINAPIinsu!$A$8:$D$4951,3,0),VLOOKUP(D5,#REF!,3,0)) -> #REF! | G5: 0.05 | H5: =IF(C5="INSUMO",VLOOKUP(D5,SINAPIinsu!$A$8:$D$4951,4,0),VLOOKUP(D5,#REF!,4,0)) -> #REF! | I5: =ROUND(G5*H5,2) -> #REF! | J5: OK
B6: SINAPI | C6: COMPOSIÇÃO | D6: 88316 | E6: =IF(C6="INSUMO",VLOOKUP(D6,SINAPIinsu!$A$8:$D$4951,2,0),VLOOKUP(D6,#REF!,2,0)) -> #REF! | F6: =IF(C6="INSUMO",VLOOKUP(D6,SINAPIinsu!$A$8:$D$4951,3,0),VLOOKUP(D6,#REF!,3,0)) -> #REF! | G6: 0.5 | H6: =IF(C6="INSUMO",VLOOKUP(D6,SINAPIinsu!$A$8:$D$4951,4,0),VLOOKUP(D6,#REF!,4,0)) -> #REF! | I6: =ROUND(G6*H6,2) -> #REF! | J6: OK
B7: OBS: composição montada com base na composição 010216 do DER | G7: SUB-TOTAL = | I7: =SUM(I5:I6) -> #REF!
G8: BDI = | I8: =BDI!D36 -> 0.24666704
G9: TOTAL = | I9: =ROUND(I7*(1+I8),2) -> #REF!
B11: ='CPU 05'!B11:I11 -> RESP.TÉCNICO

Sheet CPU 10
B2: COMPOSIÇÃO DE PREÇO UNITÁRIO
B3: CPU 10 | C3: Fornecimento e assentamento de ladrilho hidráulico pastilhado ou ranhurado, vermelho, dim. 20x20 cm, esp. 1.5cm, assentado com pasta de cimento colante, inclusive regularização e lastro | H3: Unidade: | I3: M2
B4: Fonte | D4: Código | E4: Descrição | F4: Unid. | G4: Quant. | H4: Preço unitário | I4: Preço Total
B5: SINAPI | C5: INSUMO | D5: 34753 | E5: =IF(C5="INSUMO",VLOOKUP(D5,SINAPIinsu!$A$8:$D$4951,2,0),VLOOKUP(D5,#REF!,2,0)) -> CIMENTO PORTLAND POZOLANICO CP IV-32 | F5: =IF(C5="INSUMO",VLOOKUP(D5,SINAPIinsu!$A$8:$D$4951,3,0),VLOOKUP(D5,#REF!,3,0)) -> KG | G5: 4.8 | H5: =IF(C5="INSUMO",VLOOKUP(D5,SINAPIinsu!$A$8:$D$4951,4,0),VLOOKUP(D5,#REF!,4,0)) -> 0.8 | I5: =ROUND(G5*H5,2) -> 3.84 | J5: OK
B6: SINAPI | C6: INSUMO | D6: 3731 | E6: =IF(C6="INSUMO",VLOOKUP(D6,SINAPIinsu!$A$8:$D$4951,2,0),VLOOKUP(D6,#REF!,2,0)) -> LADRILHO HIDRAULICO, *20 X 20* CM, E= 2 CM, DADOS, COR NATURAL | F6: =IF(C6="INSUMO",VLOOKUP(D6,SINAPIinsu!$A$8:$D$4951,3,0),VLOOKUP(D6,#REF!,3,0)) -> M2 | G6: 1.1 | H6: =IF(C6="INSUMO",VLOOKUP(D6,SINAPIinsu!$A$8:$D$4951,4,0),VLOOKUP(D6,#REF!,4,0)) -> 67.75 | I6: =ROUND(G6*H6,2) -> 74.53 | J6: OK
B7: SINAPI | C7: COMPOSICAO | D7: 88239 | E7: =IF(C7="INSUMO",VLOOKUP(D7,SINAPIinsu!$A$8:$D$4951,2,0),VLOOKUP(D7,#REF!,2,0)) -> #REF! | F7: =IF(C7="INSUMO",VLOOKUP(D7,SINAPIinsu!$A$8:$D$4951,3,0),VLOOKUP(D7,#REF!,3,0)) -> #REF! | G7: 0.2 | H7: =IF(C7="INSUMO",VLOOKUP(D7,SINAPIinsu!$A$8:$D$4951,4,0),VLOOKUP(D7,#REF!,4,0)) -> #REF! | I7: =ROUND(G7*H7,2) -> #REF! | J7: OK
B8: SINAPI | C8: COMPOSICAO | D8: 88256 | E8: =IF(C8="INSUMO",VLOOKUP(D8,SINAPIinsu!$A$8:$D$4951,2,0),VLOOKUP(D8,#REF!,2,0)) -> #REF! | F8: =IF(C8="INSUMO",VLOOKUP(D8,SINAPIinsu!$A$8:$D$4951,3,0),VLOOKUP(D8,#REF!,3,0)) -> #REF! | G8: 0.3 | H8: =IF(C8="INSUMO",VLOOKUP(D8,SINAPIinsu!$A$8:$D$4951,4,0),VLOOKUP(D8,#REF!,4,0)) -> #REF! | I8: =ROUND(G8*H8,2) -> #REF! | J8: OK
B9: OBS: composição montada com base na composição 200253 do DER | G9: SUB-TOTAL = | I9: =SUM(I5:I8) -> #REF!
G10: BDI = | I10: =BDI!D36 -> 0.24666704
G11: TOTAL = | I11: =ROUND(I9*(1+I10),2) -> #REF!
B15: =ORÇAMENTO!A46 -> RESP.TÉCNICO
