Workbook
Name Excel_BuiltIn__FilterDatabase_2: "$#REF!.$A$9:$G$2369"
Name Excel_BuiltIn_Print_Area_1: #REF!
Name Excel_BuiltIn_Print_Area_1: #REF!
Name Excel_BuiltIn_Print_Area_4: #REF!
Name Excel_BuiltIn_Print_Area_4: #REF!

Sheet DADOS OBRA
A9: AMPLIAÇÃO DO CENTRO CULTURAL DO CAXIAS NO MUNICÍPIO DE CONCEIÇÃO DO CASTELO - ES
A29: PLANILHA ORÇAMENTÁRIA
A31: Obra: | B31: REFORMA/AMPLIAÇÃO DO CENTRO CULTURAL DO CAXIAS NO MUNICÍPIO DE CONCEIÇÃO DO CASTELO - ESPIRITO SANTO.
A32: End: | B32: AV. HARVEY VARGAS GRILO, 143 - CENTRO, CONCEIÇÃO DO CASTELO - ES, 29370-000
A42: Responsáveis técnicos
A43: LUIZ ALBERTO GONÇALVES BARBOSA - ARQUITETO & URBANISTA - CAU A74193-0

Sheet DECLARAÇÃO
A2: DECLARAÇÃO
A4: Objeto: REFORMA/AMPLIAÇÃO DO CENTRO CULTURAL DO CAXIAS NO MUNICÍPIO DE CONCEIÇÃO DO CASTELO - ESPIRITO SANTO.
A6: AV. HARVEY VARGAS GRILO, 143 - CENTRO, CONCEIÇÃO DO CASTELO - ES, 29370-000
B9: Declaramos para os devidos fins que os quantitativos constantes nesta planilha orçamentária estão de acordo com os projetos de arquitetura e engenharia da obra.
B10: Declaramos o ainda que os custos unitários de insumos e serviços estão de acordo com os do Sistema Nacional de Pesquisa de Custos e Índices da Construção Civil (SINAPI - ONERADO).
B11: O percentual de encargos sociais adotado é de 116,89% (horista) e 72,95% (mensalista), Conforme SINAPI - Sistema Nacional de Pesquisa de Custos e Índices da Construção Civil mantido e divulgado pela Caixa Econômica Federal.
B12: Os itens não que não estão como referenciais da SINAPI - ONERADO foram substituída tomando como base, as bases de sistema mais próximos (IOPES - Espírito Santo, ORSE-SE, EMOP-RJ).
B13: Os itens não constantes nas planilhas referenciais tomadas como base, tiveram seu valor obtido segundo cotações de mercado.
B14: Este orçamento e seus anexos seguem as diretrizes e orientações da LEI Nº 14.133, DE 1º DE ABRIL DE 2021, o Decreto Nº 7.983, de 8 de abril de 2013, art. 9º da Resolução CNJ 114 de 20/04/10 e Resolução N° 366, de 22 Novembro de 2022.
H17: =TODAY() -> 46083
A19: ___________________________________________
A20: LUIZ ALBERTO GONÇALVES BARBOSA
A21: ARQUITETO & URBANISTA - CAU A74193-0

Sheet BDI-SERVIÇO
A3: ANEXO
A4: BDI PARA SERVIÇOS
A7: BONIFICAÇÃO E DESPESAS INDIRETAS
A8: ='DADOS OBRA'!$B$31 -> REFORMA/AMPLIAÇÃO DO CENTRO CULTURAL DO CAXIAS NO MUNICÍPIO DE CONCEIÇÃO DO CASTELO - ESPIRITO SANTO.
A9: ='DADOS OBRA'!$B$32 -> AV. HARVEY VARGAS GRILO, 143 - CENTRO, CONCEIÇÃO DO CASTELO - ES, 29370-000
A10: COMPOSIÇÃO DA B.D.I.
A11: 1 | B11: LUCRO | C11: L | D11: 8 | E11: %
A12: 2 | B12: DESPESAS INDIRETAS
A13: 2.1 | B13: ADMINISTRAÇÃO CENTRAL | C13: AC | D13: 4.06 | E13: %
A14: 2.2 | B14: ADMINISTRAÇÃO LOCAL | C14: AL | D14: 8.19 | E14: % | F14: VERBA ESTADUAL .: FAIXA 2
A15: 2.2 | B15: SEGURO + GARANTIA | C15: R+S+G | D15: 1 | E15: %
A16: 2.4 | B16: DESPESAS E ENCARGOS FINANCEIROS | C16: DF | D16: 0.61 | E16: %
A17: 3 | B17: Impostos | C17: I | D17: =D18+D19+D20+D21 -> 7.65 | E17: %
A18: 3.1 | B18: COFINS | C18: i° | D18: 3 | E18: %
A19: 3.2 | B19: ISS | C19: i¹ | D19: 4 | E19: % | F19: ISS DO MUNICÍPIO
A20: 3.3 | B20: PIS | C20: i² | D20: 0.65 | E20: %
A21: 3.4 | B21: CPRB – Contribuição Previdenciária Sobre a Receita Bruta | C21: i³ | D21: 0 | E21: % | F21: ONERADO
B22: TOTAL TAXA DE B.D.I. | D22: =ROUND((((1+D13/100+D14/100+D15/100)*(1+D16/100)*(1+D11/100))/(1-(D18/100+D19/100+D20/100+D21/100))-1)*100,2) -> 33.25 | E22: %
A27: X = Taxa referente ao somatório das despesas indiretas, exceto tributos e despesas financeiras;
B28: X= AC/100 + AL/100 + (R+S+G)/100 + DF/100
A29: Y = Taxa representativa das despesas financeiras;
B30: Y= DF/100
A31: Z = Taxa representativa do lucro;
B32: Z= L/100
A33: I = Taxa representativa da incidência de tributos.
B34: I = i/100°+i¹/100+i²/100+i³/100
B36: Percentuais da 2° FAIXA, extraídos da Resolução N° 366, de 22 Novembro de 2022.
B37: Alíquota CPRB definida pelas leis 12.546/11, 12.844/13 e 13.161/15
A39: ___________________________________________
A40: LUIZ ALBERTO GONÇALVES BARBOSA
A41: ARQUITETO & URBANISTA - CAU A74193-0

Sheet BDI-EQUIPAMENTO
A3: ANEXO
A4: BDI PARA EQUIPAMENTOS
A7: BONIFICAÇÃO E DESPESAS INDIRETAS
A8: ='BDI-SERVIÇO'!$A$8 -> REFORMA/AMPLIAÇÃO DO CENTRO CULTURAL DO CAXIAS NO MUNICÍPIO DE CONCEIÇÃO DO CASTELO - ESPIRITO SANTO.
A9: ='BDI-SERVIÇO'!$A$9 -> AV. HARVEY VARGAS GRILO, 143 - CENTRO, CONCEIÇÃO DO CASTELO - ES, 29370-000
A10: COMPOSIÇÃO DA B.D.I.
A11: 1 | B11: BONIFICAÇÃO | C11: B | D11: 2.5 | E11: %
A12: 2 | B12: DESPESAS INDIRETAS
A13: 2.1 | B13: ADMINISTRAÇÃO CENTRAL | C13: AC | D13: 1.5 | E13: %
A14: 2.2 | B14: SEGURO + GARANTIA | C14: S + G | D14: 0.3 | E14: %
A15: 2.3 | B15: RISCO | C15: R | D15: 0.56 | E15: %
A16: 2.4 | B16: DESPESAS FINANCEIRAS | C16: DF | D16: 0.85 | E16: %
A17: 3 | B17: Impostos | C17: I | D17: =D18+D19+D20+D21 -> 8.15 | E17: %
A18: 3.1 | B18: COFINS | C18: i° | D18: 3 | E18: %
A19: 3.2 | B19: ISS | C19: i¹ | D19: 0 | E19: % | F19: ZERADO
A20: 3.3 | B20: PIS | C20: i² | D20: 0.65 | E20: %
A21: 3.4 | B21: CPRB – Contribuição Previdenciária Sobre a Receita Bruta | C21: i³ | D21: 4.5 | E21: %
A22: TOTAL TAXA DE B.D.I. | D22: 15.57 | E22: %
A28: X = Taxa referente ao somatório das despesas indiretas, exceto tributos e despesas financeiras;
B29: X= AC/100 + (S+G)/100 + R/100
A30: Y = Taxa representativa das despesas financeiras;
B31: Y= DF/100
A32: Z = Taxa representativa do lucro;
B33: Z= B/100
A34: I = Taxa representativa da incidência de tributos.
B35: I = i/100°+i¹/100+i²/100+i³/100
B37: Percentuais extraídos da Resolução N° 366, de 22 Novembro de 2022.
B38: Aquisição de materiais e equipamentos nas planilhas orçamentárias, adotando o valor do material ou equipamento acrescido de um BDI de 15,57%
A40: ___________________________________________
A41: LUIZ ALBERTO GONÇALVES BARBOSA
A42: ARQUITETO & URBANISTA - CAU A74193-0

Sheet ORÇAMENTO SINTÉTICO-RESUMO
I1: LOGO DA EMPRESA / NOME /CNPJ
F2: Data: | G2: =TODAY() -> 46083
A3: ORÇAMENTO SINTÉTICO - SERVIÇOS - ONERADO
A4: REFORMA/AMPLIAÇÃO DO CENTRO CULTURAL DO CAXIAS NO MUNICÍPIO DE CONCEIÇÃO DO CASTELO - ESPIRITO SANTO. | E4: B.D.I. SERVIÇO: | F4: B.D.I. EQUIPAMENTOS: | G4: REFERÊNCIA: SINAPI - 03/2025 - Espírito Santo ORSE - 03/2025 - Sergipe IOPES - 03/2025 - Espírito Santo EMOP - 03/2025 - Rio de Janeiro | I4: PROPOSTA DA EMPRESA
A5: AV. HARVEY VARGAS GRILO, 143 - CENTRO, CONCEIÇÃO DO CASTELO - ES, 29370-000 | E5: 0.3325 | F5: 0.1557
A6: ITEM | B6: REFERÊNCIA | D6: DESCRIÇÃO | E6: UN | F6: QTD. | G6: VALOR TOTAL UNITÁRIO COM BDI | H6: TOTAL COM BDI | I6: VALOR TOTAL UNITÁRIO COM BDI | J6: TOTAL COM BDI
B7: BASE | C7: CÓDIGO
A8: 1 | D8: SERVIÇOS PRELIMINARES | H8: 10744.73 | J8: =SUMIF(#REF!,'ORÇAMENTO SINTÉTICO-RESUMO'!C8,#REF!) -> #REF!
A9: 1.1 | B9: 103689 | C9: SINAPI | D9: FORNECIMENTO E INSTALAÇÃO DE PLACA DE OBRA COM CHAPA GALVANIZADA E ESTRUTURA DE MADEIRA. AF_03/2022_PS | E9: m² | F9: 6 | G9: 466.65 | H9: 3880.13 | J9: =ROUND(I9*$F9,2) -> 0 | K9: =IF(I9<=G9,"OK","FALSO") -> OK
A10: 1.2 | B10: 020802 | C10: IOPES | D10: BARRACÃO PARA ALMOXARIFADO ÁREA DE 10.90M2, DE CHAPA DE COMPENSADO 12MM E PONTALETES 8X8CM, PISO CIMENTADO E COBERTURA DE TELHA DE FIBROCIMENTO DE 6MM, INCLUSIVE PONTO DE LUZ, CONF. PROJETO (2 UTILIZAÇÕES) | E10: m² | F10: 10.9 | G10: 454.45 | H10: 6864.6 | J10: =ROUND(I10*$F10,2) -> 0 | K10: =IF(I10<=G10,"OK","FALSO") -> OK
A11: 2 | D11: ESTRUTURA DE CONCRETO | H11: 168227.64 | J11: =SUMIF(#REF!,'ORÇAMENTO SINTÉTICO-RESUMO'!C11,#REF!) -> #REF! | K11: =IF(I11<=G11,"OK","FALSO") -> OK
A12: 2.1 | D12: FUNDAÇÃO - ESCADA | H12: 1743.65 | J12: =SUMIF(#REF!,'ORÇAMENTO SINTÉTICO-RESUMO'!C12,#REF!) -> #REF! | K12: =IF(I12<=G12,"OK","FALSO") -> OK
A13: 2.1.1 | B13: 96523 | C13: SINAPI | D13: ESCAVAÇÃO MANUAL PARA BLOCO DE COROAMENTO OU SAPATA (INCLUINDO ESCAVAÇÃO PARA COLOCAÇÃO DE FÔRMAS). AF_01/2024 | E13: m³ | F13: 2.27 | G13: 110.18 | H13: 346.61 | J13: =ROUND(I13*$F13,2) -> 0 | K13: =IF(I13<=G13,"OK","FALSO") -> OK
A14: 2.1.2 | B14: 104918 | C14: SINAPI | D14: ARMAÇÃO DE SAPATA ISOLADA, VIGA BALDRAME E SAPATA CORRIDA UTILIZANDO AÇO CA-50 DE 8 MM - MONTAGEM. AF_01/2024 | E14: KG | F14: 29.9 | G14: 16.78 | H14: 695.24 | J14: =ROUND(I14*$F14,2) -> 0 | K14: =IF(I14<=G14,"OK","FALSO") -> OK
A15: 2.1.3 | B15: 96535 | C15: SINAPI | D15: FABRICAÇÃO, MONTAGEM E DESMONTAGEM DE FÔRMA PARA SAPATA, EM MADEIRA SERRADA, E=25 MM, 4 UTILIZAÇÕES. AF_01/2024 | E15: m² | F15: 2.13 | G15: 153.11 | H15: 451.93 | J15: =ROUND(I15*$F15,2) -> 0 | K15: =IF(I15<=G15,"OK","FALSO") -> OK
A16: 2.1.4 | B16: 94971 | C16: SINAPI | D16: CONCRETO FCK = 25MPA, TRAÇO 1:2,3:2,7 (EM MASSA SECA DE CIMENTO/ AREIA MÉDIA/ BRITA 1) - PREPARO MECÂNICO COM BETONEIRA 600 L. AF_05/2021 | E16: m³ | F16: 0.38 | G16: 474.49 | H16: 249.87 | J16: =ROUND(I16*$F16,2) -> 0 | K16: =IF(I16<=G16,"OK","FALSO") -> OK
A17: 2.2 | D17: ARRANQUES - ESCADA | H17: 946.54 | J17: =SUMIF(#REF!,'ORÇAMENTO SINTÉTICO-RESUMO'!C17,#REF!) -> #REF! | K17: =IF(I17<=G17,"OK","FALSO") -> OK
A18: 2.2.1 | B18: 92762 | C18: SINAPI | D18: ARMAÇÃO DE PILAR OU VIGA DE ESTRUTURA CONVENCIONAL DE CONCRETO ARMADO UTILIZANDO AÇO CA-50 DE 10,0 MM - MONTAGEM. AF_06/2022 | E18: KG | F18: 20.8 | G18: 12.94 | H18: 373.06 | J18: =ROUND(I18*$F18,2) -> 0 | K18: =IF(I18<=G18,"OK","FALSO") -> OK
A19: 2.2.2 | B19: 92766 | C19: SINAPI | D19: ARMAÇÃO DE PILAR OU VIGA DE ESTRUTURA CONVENCIONAL DE CONCRETO ARMADO UTILIZANDO AÇO CA-50 DE 25,0 MM - MONTAGEM. AF_06/2022 | E19: KG | F19: 6.9 | G19: 11.85 | H19: 113.27 | J19: =ROUND(I19*$F19,2) -> 0 | K19: =IF(I19<=G19,"OK","FALSO") -> OK
A20: 2.2.3 | B20: 7478 | C20: ORSE | D20: Forma plana para pilares, em compensado plastificado de 14mm, 04 usos, inclusive escoramento | E20: m² | F20: 3.64 | G20: 65.16 | H20: 328.7 | J20: =ROUND(I20*$F20,2) -> 0 | K20: =IF(I20<=G20,"OK","FALSO") -> OK
A21: 2.2.4 | B21: 94971 | C21: SINAPI | D21: CONCRETO FCK = 25MPA, TRAÇO 1:2,3:2,7 (EM MASSA SECA DE CIMENTO/ AREIA MÉDIA/ BRITA 1) - PREPARO MECÂNICO COM BETONEIRA 600 L. AF_05/2021 | E21: m³ | F21: 0.2 | G21: 474.49 | H21: 131.51 | J21: =ROUND(I21*$F21,2) -> 0 | K21: =IF(I21<=G21,"OK","FALSO") -> OK
A22: 2.3 | D22: PILARES ESCADA - ESCADA | H22: 1610.72 | J22: =SUMIF(#REF!,'ORÇAMENTO SINTÉTICO-RESUMO'!C22,#REF!) -> #REF! | K22: =IF(I22<=G22,"OK","FALSO") -> OK
A23: 2.3.1 | B23: 92762 | C23: SINAPI | D23: ARMAÇÃO DE PILAR OU VIGA DE ESTRUTURA CONVENCIONAL DE CONCRETO ARMADO UTILIZANDO AÇO CA-50 DE 10,0 MM - MONTAGEM. AF_06/2022 | E23: KG | F23: 27 | G23: 12.94 | H23: 484.26 | J23: =ROUND(I23*$F23,2) -> 0 | K23: =IF(I23<=G23,"OK","FALSO") -> OK
A24: 2.3.2 | B24: 92766 | C24: SINAPI | D24: ARMAÇÃO DE PILAR OU VIGA DE ESTRUTURA CONVENCIONAL DE CONCRETO ARMADO UTILIZANDO AÇO CA-50 DE 25,0 MM - MONTAGEM. AF_06/2022 | E24: KG | F24: 12 | G24: 11.85 | H24: 197 | J24: =ROUND(I24*$F24,2) -> 0 | K24: =IF(I24<=G24,"OK","FALSO") -> OK
A25: 2.3.3 | B25: 7478 | C25: ORSE | D25: Forma plana para pilares, em compensado plastificado de 14mm, 04 usos, inclusive escoramento | E25: m² | F25: 7.38 | G25: 65.16 | H25: 666.44 | J25: =ROUND(I25*$F25,2) -> 0 | K25: =IF(I25<=G25,"OK","FALSO") -> OK
A26: 2.3.4 | B26: 94971 | C26: SINAPI | D26: CONCRETO FCK = 25MPA, TRAÇO 1:2,3:2,7 (EM MASSA SECA DE CIMENTO/ AREIA MÉDIA/ BRITA 1) - PREPARO MECÂNICO COM BETONEIRA 600 L. AF_05/2021 | E26: m³ | F26: 0.4 | G26: 474.49 | H26: 263.02 | J26: =ROUND(I26*$F26,2) -> 0 | K26: =IF(I26<=G26,"OK","FALSO") -> OK
A27: 2.4 | D27: LAJES - ESCADA | H27: 15308.33 | J27: =SUMIF(#REF!,'ORÇAMENTO SINTÉTICO-RESUMO'!C27,#REF!) -> #REF! | K27: =IF(I27<=G27,"OK","FALSO") -> OK
A28: 2.4.1 | B28: 95943 | C28: SINAPI | D28: ARMAÇÃO DE ESCADA, DE UMA ESTRUTURA CONVENCIONAL DE CONCRETO ARMADO UTILIZANDO AÇO CA-60 DE 5,0 MM - MONTAGEM. AF_11/2020 | E28: KG | F28: 0.3 | G28: 25.89 | H28: 10.77 | J28: =ROUND(I28*$F28,2) -> 0 | K28: =IF(I28<=G28,"OK","FALSO") -> OK
A29: 2.4.2 | B29: 95946 | C29: SINAPI | D29: ARMAÇÃO DE ESCADA, DE UMA ESTRUTURA CONVENCIONAL DE CONCRETO ARMADO UTILIZANDO AÇO CA-50 DE 10,0 MM - MONTAGEM. AF_11/2020 | E29: KG | F29: 287.8 | G29: 17.18 | H29: 6853.03 | J29: =ROUND(I29*$F29,2) -> 0 | K29: =IF(I29<=G29,"OK","FALSO") -> OK
A30: 2.4.3 | B30: 95944 | C30: SINAPI | D30: ARMAÇÃO DE ESCADA, DE UMA ESTRUTURA CONVENCIONAL DE CONCRETO ARMADO UTILIZANDO AÇO CA-50 DE 6,3 MM - MONTAGEM. AF_11/2020 | E30: KG | F30: 31.3 | G30: 23.43 | H30: 1016.41 | J30: =ROUND(I30*$F30,2) -> 0 | K30: =IF(I30<=G30,"OK","FALSO") -> OK
A31: 2.4.4 | B31: 101998 | C31: SINAPI | D31: FABRICAÇÃO DE FÔRMA PARA ESCADAS, COM 1 LANCE E LAJE CASCATA, EM CHAPA DE MADEIRA COMPENSADA RESINADA, E= 17 MM. AF_11/2020 | E31: m² | F31: 23.59 | G31: 165.67 | H31: 5416.02 | J31: =ROUND(I31*$F31,2) -> 0 | K31: =IF(I31<=G31,"OK","FALSO") -> OK
A32: 2.4.5 | B32: 94971 | C32: SINAPI | D32: CONCRETO FCK = 25MPA, TRAÇO 1:2,3:2,7 (EM MASSA SECA DE CIMENTO/ AREIA MÉDIA/ BRITA 1) - PREPARO MECÂNICO COM BETONEIRA 600 L. AF_05/2021 | E32: m³ | F32: 3.06 | G32: 474.49 | H32: 2012.1 | J32: =ROUND(I32*$F32,2) -> 0 | K32: =IF(I32<=G32,"OK","FALSO") -> OK
A33: 2.5 | D33: LAJES - PAVIMENTO SUPERIOR | H33: 3468.31 | J33: =SUMIF(#REF!,'ORÇAMENTO SINTÉTICO-RESUMO'!C33,#REF!) -> #REF! | K33: =IF(I33<=G33,"OK","FALSO") -> OK
A34: 2.5.1 | B34: 92768 | C34: SINAPI | D34: ARMAÇÃO DE LAJE DE ESTRUTURA CONVENCIONAL DE CONCRETO ARMADO UTILIZANDO AÇO CA-60 DE 5,0 MM - MONTAGEM. AF_06/2022 | E34: KG | F34: 13.7 | G34: 15.72 | H34: 298.47 | J34: =ROUND(I34*$F34,2) -> 0 | K34: =IF(I34<=G34,"OK","FALSO") -> OK
A35: 2.5.2 | B35: 92769 | C35: SINAPI | D35: ARMAÇÃO DE LAJE DE ESTRUTURA CONVENCIONAL DE CONCRETO ARMADO UTILIZANDO AÇO CA-50 DE 6,3 MM - MONTAGEM. AF_06/2022 | E35: KG | F35: 30.2 | G35: 14.83 | H35: 620.52 | J35: =ROUND(I35*$F35,2) -> 0 | K35: =IF(I35<=G35,"OK","FALSO") -> OK
A36: 2.5.3 | B36: 92267 | C36: SINAPI | D36: FABRICAÇÃO DE FÔRMA PARA LAJES, EM CHAPA DE MADEIRA COMPENSADA RESINADA, E = 17 MM. AF_09/2020 | E36: m² | F36: 14.15 | G36: 59.92 | H36: 1175.04 | J36: =ROUND(I36*$F36,2) -> 0 | K36: =IF(I36<=G36,"OK","FALSO") -> OK
A37: 2.5.4 | B37: 94971 | C37: SINAPI | D37: CONCRETO FCK = 25MPA, TRAÇO 1:2,3:2,7 (EM MASSA SECA DE CIMENTO/ AREIA MÉDIA/ BRITA 1) - PREPARO MECÂNICO COM BETONEIRA 600 L. AF_05/2021 | E37: m³ | F37: 2.09 | G37: 474.49 | H37: 1374.28 | J37: =ROUND(I37*$F37,2) -> 0 | K37: =IF(I37<=G37,"OK","FALSO") -> OK
A38: 2.6 | D38: PILARES | H38: 46577.96 | J38: =SUMIF(#REF!,'ORÇAMENTO SINTÉTICO-RESUMO'!C38,#REF!) -> #REF! | K38: =IF(I38<=G38,"OK","FALSO") -> OK
A39: 2.6.1 | B39: 92762 | C39: SINAPI | D39: ARMAÇÃO DE PILAR OU VIGA DE ESTRUTURA CONVENCIONAL DE CONCRETO ARMADO UTILIZANDO AÇO CA-50 DE 10,0 MM - MONTAGEM. AF_06/2022 | E39: KG | F39: 463.5 | G39: 12.94 | H39: 8313.08 | J39: =ROUND(I39*$F39,2) -> 0 | K39: =IF(I39<=G39,"OK","FALSO") -> OK
A40: 2.6.2 | B40: 92763 | C40: SINAPI | D40: ARMAÇÃO DE PILAR OU VIGA DE ESTRUTURA CONVENCIONAL DE CONCRETO ARMADO UTILIZANDO AÇO CA-50 DE 12,5 MM - MONTAGEM. AF_06/2022 | E40: KG | F40: 515.5 | G40: 10.9 | H40: 7789.49 | J40: =ROUND(I40*$F40,2) -> 0 | K40: =IF(I40<=G40,"OK","FALSO") -> OK
...
